BEGIN:VCALENDAR
VERSION:2.0
PRODID:-//Turn Around, Inc. - ECPv6.15.20//NONSGML v1.0//EN
CALSCALE:GREGORIAN
METHOD:PUBLISH
X-ORIGINAL-URL:https://www.turnaroundinc.org
X-WR-CALDESC:Events for Turn Around, Inc.
REFRESH-INTERVAL;VALUE=DURATION:PT1H
X-Robots-Tag:noindex
X-PUBLISHED-TTL:PT1H
BEGIN:VTIMEZONE
TZID:America/New_York
BEGIN:DAYLIGHT
TZOFFSETFROM:-0500
TZOFFSETTO:-0400
TZNAME:EDT
DTSTART:20280312T070000
END:DAYLIGHT
BEGIN:STANDARD
TZOFFSETFROM:-0400
TZOFFSETTO:-0500
TZNAME:EST
DTSTART:20281105T060000
END:STANDARD
BEGIN:DAYLIGHT
TZOFFSETFROM:-0500
TZOFFSETTO:-0400
TZNAME:EDT
DTSTART:20290311T070000
END:DAYLIGHT
BEGIN:STANDARD
TZOFFSETFROM:-0400
TZOFFSETTO:-0500
TZNAME:EST
DTSTART:20291104T060000
END:STANDARD
BEGIN:DAYLIGHT
TZOFFSETFROM:-0500
TZOFFSETTO:-0400
TZNAME:EDT
DTSTART:20300310T070000
END:DAYLIGHT
BEGIN:STANDARD
TZOFFSETFROM:-0400
TZOFFSETTO:-0500
TZNAME:EST
DTSTART:20301103T060000
END:STANDARD
END:VTIMEZONE
BEGIN:VEVENT
DTSTART;TZID=America/New_York:20290717T110000
DTEND;TZID=America/New_York:20290717T120000
DTSTAMP:20260425T100047
CREATED:20250507T185035Z
LAST-MODIFIED:20250508T133047Z
UID:10000746-1878980400-1878984000@www.turnaroundinc.org
SUMMARY:Healing through Movement - (Clients Only)
DESCRIPTION:Healing through Movement – Reclaiming Hope\, Strength\, and Joy! (Clients Only) \nA live instructor will guide you through a stretching routine. \nThis is a Virtual event. \nRegistration
URL:https://www.turnaroundinc.org/event/healing-through-movement/2029-07-17/
CATEGORIES:Virtual
ORGANIZER;CN="TurnAround with Cathy Waugh":MAILTO:intake@turnaroundinc.org
END:VEVENT
BEGIN:VEVENT
DTSTART;TZID=America/New_York:20290717T130000
DTEND;TZID=America/New_York:20290717T140000
DTSTAMP:20260425T100047
CREATED:20250507T203634Z
LAST-MODIFIED:20250508T141900Z
UID:10004143-1878987600-1878991200@www.turnaroundinc.org
SUMMARY:Healing through Movement - (Clients Only)
DESCRIPTION:Healing through Movement – Reclaiming Hope\, Strength\, and Joy! (Clients Only) \nA live instructor will guide you through a stretching routine. \nThis is a Virtual event. \nRegistration
URL:https://www.turnaroundinc.org/event/healing-through-movement-clients-only-2/2029-07-17/
CATEGORIES:Virtual
ORGANIZER;CN="TurnAround with Cathy Waugh":MAILTO:intake@turnaroundinc.org
END:VEVENT
BEGIN:VEVENT
DTSTART;TZID=America/New_York:20290718T120000
DTEND;TZID=America/New_York:20290718T130000
DTSTAMP:20260425T100047
CREATED:20260417T190617Z
LAST-MODIFIED:20260417T190639Z
UID:10005822-1879070400-1879074000@www.turnaroundinc.org
SUMMARY:The Luna Collective: The Healing Thread
DESCRIPTION:
URL:https://www.turnaroundinc.org/event/the-luna-collective-the-healing-thread/2029-07-18/
CATEGORIES:Virtual
ORGANIZER;CN="Liz Kimbel":MAILTO:lkimbel@turnaroundinc.org
END:VEVENT
BEGIN:VEVENT
DTSTART;TZID=America/New_York:20290719T160000
DTEND;TZID=America/New_York:20290719T170000
DTSTAMP:20260425T100047
CREATED:20260417T185850Z
LAST-MODIFIED:20260417T190808Z
UID:10005300-1879171200-1879174800@www.turnaroundinc.org
SUMMARY:The Luna Collective: Restoring Ivy Collective
DESCRIPTION:
URL:https://www.turnaroundinc.org/event/the-luna-collective-restoring-ivy-collective/2029-07-19/
CATEGORIES:Virtual
ORGANIZER;CN="Liz Kimbel":MAILTO:lkimbel@turnaroundinc.org
END:VEVENT
BEGIN:VEVENT
DTSTART;TZID=America/New_York:20290720T100000
DTEND;TZID=America/New_York:20290720T110000
DTSTAMP:20260425T100047
CREATED:20250507T185905Z
LAST-MODIFIED:20250508T133233Z
UID:10001270-1879236000-1879239600@www.turnaroundinc.org
SUMMARY:Healing through Movement - (Clients Only)
DESCRIPTION:Healing through Movement – Reclaiming Hope\, Strength\, and Joy! (Clients Only) \nA live instructor will guide you through a stretching routine. \nThis is a Virtual event. \nRegistration
URL:https://www.turnaroundinc.org/event/healing-through-movement-clients-only/2029-07-20/
CATEGORIES:Virtual
ORGANIZER;CN="TurnAround with Cathy Waugh":MAILTO:intake@turnaroundinc.org
END:VEVENT
BEGIN:VEVENT
DTSTART;TZID=America/New_York:20290720T100000
DTEND;TZID=America/New_York:20290720T110000
DTSTAMP:20260425T100047
CREATED:20260417T184947Z
LAST-MODIFIED:20260417T193649Z
UID:10005081-1879236000-1879239600@www.turnaroundinc.org
SUMMARY:The Luna Collective: Healthy Relationships
DESCRIPTION:
URL:https://www.turnaroundinc.org/event/the-luna-collective-healthy-relationships/2029-07-20/
CATEGORIES:Virtual
ORGANIZER;CN="Liz Kimbel":MAILTO:lkimbel@turnaroundinc.org
END:VEVENT
BEGIN:VEVENT
DTSTART;TZID=America/New_York:20290720T120000
DTEND;TZID=America/New_York:20290720T130000
DTSTAMP:20260425T100047
CREATED:20250507T203857Z
LAST-MODIFIED:20250508T142001Z
UID:10004666-1879243200-1879246800@www.turnaroundinc.org
SUMMARY:Healing through Movement - (Clients Only)
DESCRIPTION:Healing through Movement – Reclaiming Hope\, Strength\, and Joy! (Clients Only) \nA live instructor will guide you through a stretching routine. \nThis is a Virtual event. \nRegistration
URL:https://www.turnaroundinc.org/event/healing-through-movement-clients-only-3/2029-07-20/
CATEGORIES:Virtual
ORGANIZER;CN="TurnAround with Cathy Waugh":MAILTO:intake@turnaroundinc.org
END:VEVENT
BEGIN:VEVENT
DTSTART;TZID=America/New_York:20290720T130000
DTEND;TZID=America/New_York:20290720T140000
DTSTAMP:20260425T100047
CREATED:20260417T190129Z
LAST-MODIFIED:20260417T190731Z
UID:10005562-1879246800-1879250400@www.turnaroundinc.org
SUMMARY:The Luna Collective
DESCRIPTION:
URL:https://www.turnaroundinc.org/event/the-luna-collective/2029-07-20/
CATEGORIES:Virtual
ORGANIZER;CN="Liz Kimbel":MAILTO:lkimbel@turnaroundinc.org
END:VEVENT
BEGIN:VEVENT
DTSTART;TZID=America/New_York:20290720T170000
DTEND;TZID=America/New_York:20290720T180000
DTSTAMP:20260425T100047
CREATED:20250507T195314Z
LAST-MODIFIED:20250507T210836Z
UID:10003620-1879261200-1879264800@www.turnaroundinc.org
SUMMARY:The Luna Project: SMART Recovery
DESCRIPTION:All survivors welcome! If interested\, contact your advocate or therapist for an interal referral\, or if not an existing TurnAround client\, call our main line at 410-377-8111 to be enrolled in The Luna Project today! This is a virtual event.
URL:https://www.turnaroundinc.org/event/the-luna-project-smart-recovery-2/2029-07-20/
CATEGORIES:Virtual
ORGANIZER;CN="Liz Kimbel":MAILTO:lkimbel@turnaroundinc.org
END:VEVENT
BEGIN:VEVENT
DTSTART;TZID=America/New_York:20290724T110000
DTEND;TZID=America/New_York:20290724T120000
DTSTAMP:20260425T100047
CREATED:20250507T185035Z
LAST-MODIFIED:20250508T133047Z
UID:10000747-1879585200-1879588800@www.turnaroundinc.org
SUMMARY:Healing through Movement - (Clients Only)
DESCRIPTION:Healing through Movement – Reclaiming Hope\, Strength\, and Joy! (Clients Only) \nA live instructor will guide you through a stretching routine. \nThis is a Virtual event. \nRegistration
URL:https://www.turnaroundinc.org/event/healing-through-movement/2029-07-24/
CATEGORIES:Virtual
ORGANIZER;CN="TurnAround with Cathy Waugh":MAILTO:intake@turnaroundinc.org
END:VEVENT
BEGIN:VEVENT
DTSTART;TZID=America/New_York:20290724T130000
DTEND;TZID=America/New_York:20290724T140000
DTSTAMP:20260425T100047
CREATED:20250507T203634Z
LAST-MODIFIED:20250508T141900Z
UID:10004144-1879592400-1879596000@www.turnaroundinc.org
SUMMARY:Healing through Movement - (Clients Only)
DESCRIPTION:Healing through Movement – Reclaiming Hope\, Strength\, and Joy! (Clients Only) \nA live instructor will guide you through a stretching routine. \nThis is a Virtual event. \nRegistration
URL:https://www.turnaroundinc.org/event/healing-through-movement-clients-only-2/2029-07-24/
CATEGORIES:Virtual
ORGANIZER;CN="TurnAround with Cathy Waugh":MAILTO:intake@turnaroundinc.org
END:VEVENT
BEGIN:VEVENT
DTSTART;TZID=America/New_York:20290725T120000
DTEND;TZID=America/New_York:20290725T130000
DTSTAMP:20260425T100047
CREATED:20260417T190617Z
LAST-MODIFIED:20260417T190639Z
UID:10005823-1879675200-1879678800@www.turnaroundinc.org
SUMMARY:The Luna Collective: The Healing Thread
DESCRIPTION:
URL:https://www.turnaroundinc.org/event/the-luna-collective-the-healing-thread/2029-07-25/
CATEGORIES:Virtual
ORGANIZER;CN="Liz Kimbel":MAILTO:lkimbel@turnaroundinc.org
END:VEVENT
BEGIN:VEVENT
DTSTART;TZID=America/New_York:20290726T160000
DTEND;TZID=America/New_York:20290726T170000
DTSTAMP:20260425T100047
CREATED:20260417T185850Z
LAST-MODIFIED:20260417T190808Z
UID:10005301-1879776000-1879779600@www.turnaroundinc.org
SUMMARY:The Luna Collective: Restoring Ivy Collective
DESCRIPTION:
URL:https://www.turnaroundinc.org/event/the-luna-collective-restoring-ivy-collective/2029-07-26/
CATEGORIES:Virtual
ORGANIZER;CN="Liz Kimbel":MAILTO:lkimbel@turnaroundinc.org
END:VEVENT
BEGIN:VEVENT
DTSTART;TZID=America/New_York:20290727T100000
DTEND;TZID=America/New_York:20290727T110000
DTSTAMP:20260425T100047
CREATED:20250507T185905Z
LAST-MODIFIED:20250508T133233Z
UID:10001271-1879840800-1879844400@www.turnaroundinc.org
SUMMARY:Healing through Movement - (Clients Only)
DESCRIPTION:Healing through Movement – Reclaiming Hope\, Strength\, and Joy! (Clients Only) \nA live instructor will guide you through a stretching routine. \nThis is a Virtual event. \nRegistration
URL:https://www.turnaroundinc.org/event/healing-through-movement-clients-only/2029-07-27/
CATEGORIES:Virtual
ORGANIZER;CN="TurnAround with Cathy Waugh":MAILTO:intake@turnaroundinc.org
END:VEVENT
BEGIN:VEVENT
DTSTART;TZID=America/New_York:20290727T120000
DTEND;TZID=America/New_York:20290727T130000
DTSTAMP:20260425T100047
CREATED:20250507T203857Z
LAST-MODIFIED:20250508T142001Z
UID:10004667-1879848000-1879851600@www.turnaroundinc.org
SUMMARY:Healing through Movement - (Clients Only)
DESCRIPTION:Healing through Movement – Reclaiming Hope\, Strength\, and Joy! (Clients Only) \nA live instructor will guide you through a stretching routine. \nThis is a Virtual event. \nRegistration
URL:https://www.turnaroundinc.org/event/healing-through-movement-clients-only-3/2029-07-27/
CATEGORIES:Virtual
ORGANIZER;CN="TurnAround with Cathy Waugh":MAILTO:intake@turnaroundinc.org
END:VEVENT
BEGIN:VEVENT
DTSTART;TZID=America/New_York:20290727T130000
DTEND;TZID=America/New_York:20290727T140000
DTSTAMP:20260425T100047
CREATED:20260417T190129Z
LAST-MODIFIED:20260417T190731Z
UID:10005563-1879851600-1879855200@www.turnaroundinc.org
SUMMARY:The Luna Collective
DESCRIPTION:
URL:https://www.turnaroundinc.org/event/the-luna-collective/2029-07-27/
CATEGORIES:Virtual
ORGANIZER;CN="Liz Kimbel":MAILTO:lkimbel@turnaroundinc.org
END:VEVENT
BEGIN:VEVENT
DTSTART;TZID=America/New_York:20290727T170000
DTEND;TZID=America/New_York:20290727T180000
DTSTAMP:20260425T100047
CREATED:20250507T195314Z
LAST-MODIFIED:20250507T210836Z
UID:10003621-1879866000-1879869600@www.turnaroundinc.org
SUMMARY:The Luna Project: SMART Recovery
DESCRIPTION:All survivors welcome! If interested\, contact your advocate or therapist for an interal referral\, or if not an existing TurnAround client\, call our main line at 410-377-8111 to be enrolled in The Luna Project today! This is a virtual event.
URL:https://www.turnaroundinc.org/event/the-luna-project-smart-recovery-2/2029-07-27/
CATEGORIES:Virtual
ORGANIZER;CN="Liz Kimbel":MAILTO:lkimbel@turnaroundinc.org
END:VEVENT
BEGIN:VEVENT
DTSTART;TZID=America/New_York:20290731T110000
DTEND;TZID=America/New_York:20290731T120000
DTSTAMP:20260425T100047
CREATED:20250507T185035Z
LAST-MODIFIED:20250508T133047Z
UID:10000748-1880190000-1880193600@www.turnaroundinc.org
SUMMARY:Healing through Movement - (Clients Only)
DESCRIPTION:Healing through Movement – Reclaiming Hope\, Strength\, and Joy! (Clients Only) \nA live instructor will guide you through a stretching routine. \nThis is a Virtual event. \nRegistration
URL:https://www.turnaroundinc.org/event/healing-through-movement/2029-07-31/
CATEGORIES:Virtual
ORGANIZER;CN="TurnAround with Cathy Waugh":MAILTO:intake@turnaroundinc.org
END:VEVENT
BEGIN:VEVENT
DTSTART;TZID=America/New_York:20290731T130000
DTEND;TZID=America/New_York:20290731T140000
DTSTAMP:20260425T100047
CREATED:20250507T203634Z
LAST-MODIFIED:20250508T141900Z
UID:10004145-1880197200-1880200800@www.turnaroundinc.org
SUMMARY:Healing through Movement - (Clients Only)
DESCRIPTION:Healing through Movement – Reclaiming Hope\, Strength\, and Joy! (Clients Only) \nA live instructor will guide you through a stretching routine. \nThis is a Virtual event. \nRegistration
URL:https://www.turnaroundinc.org/event/healing-through-movement-clients-only-2/2029-07-31/
CATEGORIES:Virtual
ORGANIZER;CN="TurnAround with Cathy Waugh":MAILTO:intake@turnaroundinc.org
END:VEVENT
BEGIN:VEVENT
DTSTART;TZID=America/New_York:20290801T120000
DTEND;TZID=America/New_York:20290801T130000
DTSTAMP:20260425T100047
CREATED:20260417T190617Z
LAST-MODIFIED:20260417T190639Z
UID:10005824-1880280000-1880283600@www.turnaroundinc.org
SUMMARY:The Luna Collective: The Healing Thread
DESCRIPTION:
URL:https://www.turnaroundinc.org/event/the-luna-collective-the-healing-thread/2029-08-01/
CATEGORIES:Virtual
ORGANIZER;CN="Liz Kimbel":MAILTO:lkimbel@turnaroundinc.org
END:VEVENT
BEGIN:VEVENT
DTSTART;TZID=America/New_York:20290802T160000
DTEND;TZID=America/New_York:20290802T170000
DTSTAMP:20260425T100047
CREATED:20260417T185850Z
LAST-MODIFIED:20260417T190808Z
UID:10005302-1880380800-1880384400@www.turnaroundinc.org
SUMMARY:The Luna Collective: Restoring Ivy Collective
DESCRIPTION:
URL:https://www.turnaroundinc.org/event/the-luna-collective-restoring-ivy-collective/2029-08-02/
CATEGORIES:Virtual
ORGANIZER;CN="Liz Kimbel":MAILTO:lkimbel@turnaroundinc.org
END:VEVENT
BEGIN:VEVENT
DTSTART;TZID=America/New_York:20290803T100000
DTEND;TZID=America/New_York:20290803T110000
DTSTAMP:20260425T100047
CREATED:20250507T185905Z
LAST-MODIFIED:20250508T133233Z
UID:10001272-1880445600-1880449200@www.turnaroundinc.org
SUMMARY:Healing through Movement - (Clients Only)
DESCRIPTION:Healing through Movement – Reclaiming Hope\, Strength\, and Joy! (Clients Only) \nA live instructor will guide you through a stretching routine. \nThis is a Virtual event. \nRegistration
URL:https://www.turnaroundinc.org/event/healing-through-movement-clients-only/2029-08-03/
CATEGORIES:Virtual
ORGANIZER;CN="TurnAround with Cathy Waugh":MAILTO:intake@turnaroundinc.org
END:VEVENT
BEGIN:VEVENT
DTSTART;TZID=America/New_York:20290803T100000
DTEND;TZID=America/New_York:20290803T110000
DTSTAMP:20260425T100047
CREATED:20260417T184947Z
LAST-MODIFIED:20260417T193649Z
UID:10005082-1880445600-1880449200@www.turnaroundinc.org
SUMMARY:The Luna Collective: Healthy Relationships
DESCRIPTION:
URL:https://www.turnaroundinc.org/event/the-luna-collective-healthy-relationships/2029-08-03/
CATEGORIES:Virtual
ORGANIZER;CN="Liz Kimbel":MAILTO:lkimbel@turnaroundinc.org
END:VEVENT
BEGIN:VEVENT
DTSTART;TZID=America/New_York:20290803T120000
DTEND;TZID=America/New_York:20290803T130000
DTSTAMP:20260425T100047
CREATED:20250507T203857Z
LAST-MODIFIED:20250508T142001Z
UID:10004668-1880452800-1880456400@www.turnaroundinc.org
SUMMARY:Healing through Movement - (Clients Only)
DESCRIPTION:Healing through Movement – Reclaiming Hope\, Strength\, and Joy! (Clients Only) \nA live instructor will guide you through a stretching routine. \nThis is a Virtual event. \nRegistration
URL:https://www.turnaroundinc.org/event/healing-through-movement-clients-only-3/2029-08-03/
CATEGORIES:Virtual
ORGANIZER;CN="TurnAround with Cathy Waugh":MAILTO:intake@turnaroundinc.org
END:VEVENT
BEGIN:VEVENT
DTSTART;TZID=America/New_York:20290803T130000
DTEND;TZID=America/New_York:20290803T140000
DTSTAMP:20260425T100047
CREATED:20260417T190129Z
LAST-MODIFIED:20260417T190731Z
UID:10005564-1880456400-1880460000@www.turnaroundinc.org
SUMMARY:The Luna Collective
DESCRIPTION:
URL:https://www.turnaroundinc.org/event/the-luna-collective/2029-08-03/
CATEGORIES:Virtual
ORGANIZER;CN="Liz Kimbel":MAILTO:lkimbel@turnaroundinc.org
END:VEVENT
BEGIN:VEVENT
DTSTART;TZID=America/New_York:20290803T170000
DTEND;TZID=America/New_York:20290803T180000
DTSTAMP:20260425T100047
CREATED:20250507T195314Z
LAST-MODIFIED:20250507T210836Z
UID:10003622-1880470800-1880474400@www.turnaroundinc.org
SUMMARY:The Luna Project: SMART Recovery
DESCRIPTION:All survivors welcome! If interested\, contact your advocate or therapist for an interal referral\, or if not an existing TurnAround client\, call our main line at 410-377-8111 to be enrolled in The Luna Project today! This is a virtual event.
URL:https://www.turnaroundinc.org/event/the-luna-project-smart-recovery-2/2029-08-03/
CATEGORIES:Virtual
ORGANIZER;CN="Liz Kimbel":MAILTO:lkimbel@turnaroundinc.org
END:VEVENT
BEGIN:VEVENT
DTSTART;TZID=America/New_York:20290807T110000
DTEND;TZID=America/New_York:20290807T120000
DTSTAMP:20260425T100047
CREATED:20250507T185035Z
LAST-MODIFIED:20250508T133047Z
UID:10000749-1880794800-1880798400@www.turnaroundinc.org
SUMMARY:Healing through Movement - (Clients Only)
DESCRIPTION:Healing through Movement – Reclaiming Hope\, Strength\, and Joy! (Clients Only) \nA live instructor will guide you through a stretching routine. \nThis is a Virtual event. \nRegistration
URL:https://www.turnaroundinc.org/event/healing-through-movement/2029-08-07/
CATEGORIES:Virtual
ORGANIZER;CN="TurnAround with Cathy Waugh":MAILTO:intake@turnaroundinc.org
END:VEVENT
BEGIN:VEVENT
DTSTART;TZID=America/New_York:20290807T130000
DTEND;TZID=America/New_York:20290807T140000
DTSTAMP:20260425T100047
CREATED:20250507T203634Z
LAST-MODIFIED:20250508T141900Z
UID:10004146-1880802000-1880805600@www.turnaroundinc.org
SUMMARY:Healing through Movement - (Clients Only)
DESCRIPTION:Healing through Movement – Reclaiming Hope\, Strength\, and Joy! (Clients Only) \nA live instructor will guide you through a stretching routine. \nThis is a Virtual event. \nRegistration
URL:https://www.turnaroundinc.org/event/healing-through-movement-clients-only-2/2029-08-07/
CATEGORIES:Virtual
ORGANIZER;CN="TurnAround with Cathy Waugh":MAILTO:intake@turnaroundinc.org
END:VEVENT
BEGIN:VEVENT
DTSTART;TZID=America/New_York:20290808T120000
DTEND;TZID=America/New_York:20290808T130000
DTSTAMP:20260425T100047
CREATED:20260417T190617Z
LAST-MODIFIED:20260417T190639Z
UID:10005825-1880884800-1880888400@www.turnaroundinc.org
SUMMARY:The Luna Collective: The Healing Thread
DESCRIPTION:
URL:https://www.turnaroundinc.org/event/the-luna-collective-the-healing-thread/2029-08-08/
CATEGORIES:Virtual
ORGANIZER;CN="Liz Kimbel":MAILTO:lkimbel@turnaroundinc.org
END:VEVENT
BEGIN:VEVENT
DTSTART;TZID=America/New_York:20290809T160000
DTEND;TZID=America/New_York:20290809T170000
DTSTAMP:20260425T100047
CREATED:20260417T185850Z
LAST-MODIFIED:20260417T190808Z
UID:10005303-1880985600-1880989200@www.turnaroundinc.org
SUMMARY:The Luna Collective: Restoring Ivy Collective
DESCRIPTION:
URL:https://www.turnaroundinc.org/event/the-luna-collective-restoring-ivy-collective/2029-08-09/
CATEGORIES:Virtual
ORGANIZER;CN="Liz Kimbel":MAILTO:lkimbel@turnaroundinc.org
END:VEVENT
END:VCALENDAR