BEGIN:VCALENDAR
VERSION:2.0
PRODID:-//Turn Around, Inc. - ECPv6.15.20//NONSGML v1.0//EN
CALSCALE:GREGORIAN
METHOD:PUBLISH
X-WR-CALNAME:Turn Around, Inc.
X-ORIGINAL-URL:https://www.turnaroundinc.org
X-WR-CALDESC:Events for Turn Around, Inc.
REFRESH-INTERVAL;VALUE=DURATION:PT1H
X-Robots-Tag:noindex
X-PUBLISHED-TTL:PT1H
BEGIN:VTIMEZONE
TZID:America/New_York
BEGIN:DAYLIGHT
TZOFFSETFROM:-0500
TZOFFSETTO:-0400
TZNAME:EDT
DTSTART:20280312T070000
END:DAYLIGHT
BEGIN:STANDARD
TZOFFSETFROM:-0400
TZOFFSETTO:-0500
TZNAME:EST
DTSTART:20281105T060000
END:STANDARD
BEGIN:DAYLIGHT
TZOFFSETFROM:-0500
TZOFFSETTO:-0400
TZNAME:EDT
DTSTART:20290311T070000
END:DAYLIGHT
BEGIN:STANDARD
TZOFFSETFROM:-0400
TZOFFSETTO:-0500
TZNAME:EST
DTSTART:20291104T060000
END:STANDARD
BEGIN:DAYLIGHT
TZOFFSETFROM:-0500
TZOFFSETTO:-0400
TZNAME:EDT
DTSTART:20300310T070000
END:DAYLIGHT
BEGIN:STANDARD
TZOFFSETFROM:-0400
TZOFFSETTO:-0500
TZNAME:EST
DTSTART:20301103T060000
END:STANDARD
END:VTIMEZONE
BEGIN:VEVENT
DTSTART;TZID=America/New_York:20290323T100000
DTEND;TZID=America/New_York:20290323T110000
DTSTAMP:20260423T152749
CREATED:20250507T185905Z
LAST-MODIFIED:20250508T133233Z
UID:10001253-1868954400-1868958000@www.turnaroundinc.org
SUMMARY:Healing through Movement - (Clients Only)
DESCRIPTION:Healing through Movement – Reclaiming Hope\, Strength\, and Joy! (Clients Only) \nA live instructor will guide you through a stretching routine. \nThis is a Virtual event. \nRegistration
URL:https://www.turnaroundinc.org/event/healing-through-movement-clients-only/2029-03-23/
CATEGORIES:Virtual
ORGANIZER;CN="TurnAround with Cathy Waugh":MAILTO:intake@turnaroundinc.org
END:VEVENT
BEGIN:VEVENT
DTSTART;TZID=America/New_York:20290323T120000
DTEND;TZID=America/New_York:20290323T130000
DTSTAMP:20260423T152750
CREATED:20250507T203857Z
LAST-MODIFIED:20250508T142001Z
UID:10004649-1868961600-1868965200@www.turnaroundinc.org
SUMMARY:Healing through Movement - (Clients Only)
DESCRIPTION:Healing through Movement – Reclaiming Hope\, Strength\, and Joy! (Clients Only) \nA live instructor will guide you through a stretching routine. \nThis is a Virtual event. \nRegistration
URL:https://www.turnaroundinc.org/event/healing-through-movement-clients-only-3/2029-03-23/
CATEGORIES:Virtual
ORGANIZER;CN="TurnAround with Cathy Waugh":MAILTO:intake@turnaroundinc.org
END:VEVENT
BEGIN:VEVENT
DTSTART;TZID=America/New_York:20290323T130000
DTEND;TZID=America/New_York:20290323T140000
DTSTAMP:20260423T152750
CREATED:20260417T190129Z
LAST-MODIFIED:20260417T190731Z
UID:10005545-1868965200-1868968800@www.turnaroundinc.org
SUMMARY:The Luna Collective
DESCRIPTION:
URL:https://www.turnaroundinc.org/event/the-luna-collective/2029-03-23/
CATEGORIES:Virtual
ORGANIZER;CN="Liz Kimbel":MAILTO:lkimbel@turnaroundinc.org
END:VEVENT
BEGIN:VEVENT
DTSTART;TZID=America/New_York:20290323T170000
DTEND;TZID=America/New_York:20290323T180000
DTSTAMP:20260423T152750
CREATED:20250507T195314Z
LAST-MODIFIED:20250507T210836Z
UID:10003603-1868979600-1868983200@www.turnaroundinc.org
SUMMARY:The Luna Project: SMART Recovery
DESCRIPTION:All survivors welcome! If interested\, contact your advocate or therapist for an interal referral\, or if not an existing TurnAround client\, call our main line at 410-377-8111 to be enrolled in The Luna Project today! This is a virtual event.
URL:https://www.turnaroundinc.org/event/the-luna-project-smart-recovery-2/2029-03-23/
CATEGORIES:Virtual
ORGANIZER;CN="Liz Kimbel":MAILTO:lkimbel@turnaroundinc.org
END:VEVENT
BEGIN:VEVENT
DTSTART;TZID=America/New_York:20290327T110000
DTEND;TZID=America/New_York:20290327T120000
DTSTAMP:20260423T152750
CREATED:20250507T185035Z
LAST-MODIFIED:20250508T133047Z
UID:10000730-1869303600-1869307200@www.turnaroundinc.org
SUMMARY:Healing through Movement - (Clients Only)
DESCRIPTION:Healing through Movement – Reclaiming Hope\, Strength\, and Joy! (Clients Only) \nA live instructor will guide you through a stretching routine. \nThis is a Virtual event. \nRegistration
URL:https://www.turnaroundinc.org/event/healing-through-movement/2029-03-27/
CATEGORIES:Virtual
ORGANIZER;CN="TurnAround with Cathy Waugh":MAILTO:intake@turnaroundinc.org
END:VEVENT
BEGIN:VEVENT
DTSTART;TZID=America/New_York:20290327T130000
DTEND;TZID=America/New_York:20290327T140000
DTSTAMP:20260423T152750
CREATED:20250507T203634Z
LAST-MODIFIED:20250508T141900Z
UID:10004127-1869310800-1869314400@www.turnaroundinc.org
SUMMARY:Healing through Movement - (Clients Only)
DESCRIPTION:Healing through Movement – Reclaiming Hope\, Strength\, and Joy! (Clients Only) \nA live instructor will guide you through a stretching routine. \nThis is a Virtual event. \nRegistration
URL:https://www.turnaroundinc.org/event/healing-through-movement-clients-only-2/2029-03-27/
CATEGORIES:Virtual
ORGANIZER;CN="TurnAround with Cathy Waugh":MAILTO:intake@turnaroundinc.org
END:VEVENT
BEGIN:VEVENT
DTSTART;TZID=America/New_York:20290328T120000
DTEND;TZID=America/New_York:20290328T130000
DTSTAMP:20260423T152750
CREATED:20260417T190617Z
LAST-MODIFIED:20260417T190639Z
UID:10005806-1869393600-1869397200@www.turnaroundinc.org
SUMMARY:The Luna Collective: The Healing Thread
DESCRIPTION:
URL:https://www.turnaroundinc.org/event/the-luna-collective-the-healing-thread/2029-03-28/
CATEGORIES:Virtual
ORGANIZER;CN="Liz Kimbel":MAILTO:lkimbel@turnaroundinc.org
END:VEVENT
BEGIN:VEVENT
DTSTART;TZID=America/New_York:20290329T160000
DTEND;TZID=America/New_York:20290329T170000
DTSTAMP:20260423T152750
CREATED:20260417T185850Z
LAST-MODIFIED:20260417T190808Z
UID:10005284-1869494400-1869498000@www.turnaroundinc.org
SUMMARY:The Luna Collective: Restoring Ivy Collective
DESCRIPTION:
URL:https://www.turnaroundinc.org/event/the-luna-collective-restoring-ivy-collective/2029-03-29/
CATEGORIES:Virtual
ORGANIZER;CN="Liz Kimbel":MAILTO:lkimbel@turnaroundinc.org
END:VEVENT
BEGIN:VEVENT
DTSTART;TZID=America/New_York:20290330T100000
DTEND;TZID=America/New_York:20290330T110000
DTSTAMP:20260423T152750
CREATED:20250507T185905Z
LAST-MODIFIED:20250508T133233Z
UID:10001254-1869559200-1869562800@www.turnaroundinc.org
SUMMARY:Healing through Movement - (Clients Only)
DESCRIPTION:Healing through Movement – Reclaiming Hope\, Strength\, and Joy! (Clients Only) \nA live instructor will guide you through a stretching routine. \nThis is a Virtual event. \nRegistration
URL:https://www.turnaroundinc.org/event/healing-through-movement-clients-only/2029-03-30/
CATEGORIES:Virtual
ORGANIZER;CN="TurnAround with Cathy Waugh":MAILTO:intake@turnaroundinc.org
END:VEVENT
BEGIN:VEVENT
DTSTART;TZID=America/New_York:20290330T100000
DTEND;TZID=America/New_York:20290330T110000
DTSTAMP:20260423T152750
CREATED:20260417T184947Z
LAST-MODIFIED:20260417T193649Z
UID:10005073-1869559200-1869562800@www.turnaroundinc.org
SUMMARY:The Luna Collective: Healthy Relationships
DESCRIPTION:
URL:https://www.turnaroundinc.org/event/the-luna-collective-healthy-relationships/2029-03-30/
CATEGORIES:Virtual
ORGANIZER;CN="Liz Kimbel":MAILTO:lkimbel@turnaroundinc.org
END:VEVENT
BEGIN:VEVENT
DTSTART;TZID=America/New_York:20290330T120000
DTEND;TZID=America/New_York:20290330T130000
DTSTAMP:20260423T152750
CREATED:20250507T203857Z
LAST-MODIFIED:20250508T142001Z
UID:10004650-1869566400-1869570000@www.turnaroundinc.org
SUMMARY:Healing through Movement - (Clients Only)
DESCRIPTION:Healing through Movement – Reclaiming Hope\, Strength\, and Joy! (Clients Only) \nA live instructor will guide you through a stretching routine. \nThis is a Virtual event. \nRegistration
URL:https://www.turnaroundinc.org/event/healing-through-movement-clients-only-3/2029-03-30/
CATEGORIES:Virtual
ORGANIZER;CN="TurnAround with Cathy Waugh":MAILTO:intake@turnaroundinc.org
END:VEVENT
BEGIN:VEVENT
DTSTART;TZID=America/New_York:20290330T130000
DTEND;TZID=America/New_York:20290330T140000
DTSTAMP:20260423T152750
CREATED:20260417T190129Z
LAST-MODIFIED:20260417T190731Z
UID:10005546-1869570000-1869573600@www.turnaroundinc.org
SUMMARY:The Luna Collective
DESCRIPTION:
URL:https://www.turnaroundinc.org/event/the-luna-collective/2029-03-30/
CATEGORIES:Virtual
ORGANIZER;CN="Liz Kimbel":MAILTO:lkimbel@turnaroundinc.org
END:VEVENT
BEGIN:VEVENT
DTSTART;TZID=America/New_York:20290330T170000
DTEND;TZID=America/New_York:20290330T180000
DTSTAMP:20260423T152750
CREATED:20250507T195314Z
LAST-MODIFIED:20250507T210836Z
UID:10003604-1869584400-1869588000@www.turnaroundinc.org
SUMMARY:The Luna Project: SMART Recovery
DESCRIPTION:All survivors welcome! If interested\, contact your advocate or therapist for an interal referral\, or if not an existing TurnAround client\, call our main line at 410-377-8111 to be enrolled in The Luna Project today! This is a virtual event.
URL:https://www.turnaroundinc.org/event/the-luna-project-smart-recovery-2/2029-03-30/
CATEGORIES:Virtual
ORGANIZER;CN="Liz Kimbel":MAILTO:lkimbel@turnaroundinc.org
END:VEVENT
BEGIN:VEVENT
DTSTART;TZID=America/New_York:20290403T110000
DTEND;TZID=America/New_York:20290403T120000
DTSTAMP:20260423T152750
CREATED:20250507T185035Z
LAST-MODIFIED:20250508T133047Z
UID:10000731-1869908400-1869912000@www.turnaroundinc.org
SUMMARY:Healing through Movement - (Clients Only)
DESCRIPTION:Healing through Movement – Reclaiming Hope\, Strength\, and Joy! (Clients Only) \nA live instructor will guide you through a stretching routine. \nThis is a Virtual event. \nRegistration
URL:https://www.turnaroundinc.org/event/healing-through-movement/2029-04-03/
CATEGORIES:Virtual
ORGANIZER;CN="TurnAround with Cathy Waugh":MAILTO:intake@turnaroundinc.org
END:VEVENT
BEGIN:VEVENT
DTSTART;TZID=America/New_York:20290403T130000
DTEND;TZID=America/New_York:20290403T140000
DTSTAMP:20260423T152750
CREATED:20250507T203634Z
LAST-MODIFIED:20250508T141900Z
UID:10004128-1869915600-1869919200@www.turnaroundinc.org
SUMMARY:Healing through Movement - (Clients Only)
DESCRIPTION:Healing through Movement – Reclaiming Hope\, Strength\, and Joy! (Clients Only) \nA live instructor will guide you through a stretching routine. \nThis is a Virtual event. \nRegistration
URL:https://www.turnaroundinc.org/event/healing-through-movement-clients-only-2/2029-04-03/
CATEGORIES:Virtual
ORGANIZER;CN="TurnAround with Cathy Waugh":MAILTO:intake@turnaroundinc.org
END:VEVENT
BEGIN:VEVENT
DTSTART;TZID=America/New_York:20290404T120000
DTEND;TZID=America/New_York:20290404T130000
DTSTAMP:20260423T152750
CREATED:20260417T190617Z
LAST-MODIFIED:20260417T190639Z
UID:10005807-1869998400-1870002000@www.turnaroundinc.org
SUMMARY:The Luna Collective: The Healing Thread
DESCRIPTION:
URL:https://www.turnaroundinc.org/event/the-luna-collective-the-healing-thread/2029-04-04/
CATEGORIES:Virtual
ORGANIZER;CN="Liz Kimbel":MAILTO:lkimbel@turnaroundinc.org
END:VEVENT
BEGIN:VEVENT
DTSTART;TZID=America/New_York:20290405T160000
DTEND;TZID=America/New_York:20290405T170000
DTSTAMP:20260423T152750
CREATED:20260417T185850Z
LAST-MODIFIED:20260417T190808Z
UID:10005285-1870099200-1870102800@www.turnaroundinc.org
SUMMARY:The Luna Collective: Restoring Ivy Collective
DESCRIPTION:
URL:https://www.turnaroundinc.org/event/the-luna-collective-restoring-ivy-collective/2029-04-05/
CATEGORIES:Virtual
ORGANIZER;CN="Liz Kimbel":MAILTO:lkimbel@turnaroundinc.org
END:VEVENT
BEGIN:VEVENT
DTSTART;TZID=America/New_York:20290406T100000
DTEND;TZID=America/New_York:20290406T110000
DTSTAMP:20260423T152750
CREATED:20250507T185905Z
LAST-MODIFIED:20250508T133233Z
UID:10001255-1870164000-1870167600@www.turnaroundinc.org
SUMMARY:Healing through Movement - (Clients Only)
DESCRIPTION:Healing through Movement – Reclaiming Hope\, Strength\, and Joy! (Clients Only) \nA live instructor will guide you through a stretching routine. \nThis is a Virtual event. \nRegistration
URL:https://www.turnaroundinc.org/event/healing-through-movement-clients-only/2029-04-06/
CATEGORIES:Virtual
ORGANIZER;CN="TurnAround with Cathy Waugh":MAILTO:intake@turnaroundinc.org
END:VEVENT
BEGIN:VEVENT
DTSTART;TZID=America/New_York:20290406T120000
DTEND;TZID=America/New_York:20290406T130000
DTSTAMP:20260423T152750
CREATED:20250507T203857Z
LAST-MODIFIED:20250508T142001Z
UID:10004651-1870171200-1870174800@www.turnaroundinc.org
SUMMARY:Healing through Movement - (Clients Only)
DESCRIPTION:Healing through Movement – Reclaiming Hope\, Strength\, and Joy! (Clients Only) \nA live instructor will guide you through a stretching routine. \nThis is a Virtual event. \nRegistration
URL:https://www.turnaroundinc.org/event/healing-through-movement-clients-only-3/2029-04-06/
CATEGORIES:Virtual
ORGANIZER;CN="TurnAround with Cathy Waugh":MAILTO:intake@turnaroundinc.org
END:VEVENT
BEGIN:VEVENT
DTSTART;TZID=America/New_York:20290406T130000
DTEND;TZID=America/New_York:20290406T140000
DTSTAMP:20260423T152750
CREATED:20260417T190129Z
LAST-MODIFIED:20260417T190731Z
UID:10005547-1870174800-1870178400@www.turnaroundinc.org
SUMMARY:The Luna Collective
DESCRIPTION:
URL:https://www.turnaroundinc.org/event/the-luna-collective/2029-04-06/
CATEGORIES:Virtual
ORGANIZER;CN="Liz Kimbel":MAILTO:lkimbel@turnaroundinc.org
END:VEVENT
BEGIN:VEVENT
DTSTART;TZID=America/New_York:20290406T170000
DTEND;TZID=America/New_York:20290406T180000
DTSTAMP:20260423T152750
CREATED:20250507T195314Z
LAST-MODIFIED:20250507T210836Z
UID:10003605-1870189200-1870192800@www.turnaroundinc.org
SUMMARY:The Luna Project: SMART Recovery
DESCRIPTION:All survivors welcome! If interested\, contact your advocate or therapist for an interal referral\, or if not an existing TurnAround client\, call our main line at 410-377-8111 to be enrolled in The Luna Project today! This is a virtual event.
URL:https://www.turnaroundinc.org/event/the-luna-project-smart-recovery-2/2029-04-06/
CATEGORIES:Virtual
ORGANIZER;CN="Liz Kimbel":MAILTO:lkimbel@turnaroundinc.org
END:VEVENT
BEGIN:VEVENT
DTSTART;TZID=America/New_York:20290410T110000
DTEND;TZID=America/New_York:20290410T120000
DTSTAMP:20260423T152750
CREATED:20250507T185035Z
LAST-MODIFIED:20250508T133047Z
UID:10000732-1870513200-1870516800@www.turnaroundinc.org
SUMMARY:Healing through Movement - (Clients Only)
DESCRIPTION:Healing through Movement – Reclaiming Hope\, Strength\, and Joy! (Clients Only) \nA live instructor will guide you through a stretching routine. \nThis is a Virtual event. \nRegistration
URL:https://www.turnaroundinc.org/event/healing-through-movement/2029-04-10/
CATEGORIES:Virtual
ORGANIZER;CN="TurnAround with Cathy Waugh":MAILTO:intake@turnaroundinc.org
END:VEVENT
BEGIN:VEVENT
DTSTART;TZID=America/New_York:20290410T130000
DTEND;TZID=America/New_York:20290410T140000
DTSTAMP:20260423T152750
CREATED:20250507T203634Z
LAST-MODIFIED:20250508T141900Z
UID:10004129-1870520400-1870524000@www.turnaroundinc.org
SUMMARY:Healing through Movement - (Clients Only)
DESCRIPTION:Healing through Movement – Reclaiming Hope\, Strength\, and Joy! (Clients Only) \nA live instructor will guide you through a stretching routine. \nThis is a Virtual event. \nRegistration
URL:https://www.turnaroundinc.org/event/healing-through-movement-clients-only-2/2029-04-10/
CATEGORIES:Virtual
ORGANIZER;CN="TurnAround with Cathy Waugh":MAILTO:intake@turnaroundinc.org
END:VEVENT
BEGIN:VEVENT
DTSTART;TZID=America/New_York:20290411T120000
DTEND;TZID=America/New_York:20290411T130000
DTSTAMP:20260423T152750
CREATED:20260417T190617Z
LAST-MODIFIED:20260417T190639Z
UID:10005808-1870603200-1870606800@www.turnaroundinc.org
SUMMARY:The Luna Collective: The Healing Thread
DESCRIPTION:
URL:https://www.turnaroundinc.org/event/the-luna-collective-the-healing-thread/2029-04-11/
CATEGORIES:Virtual
ORGANIZER;CN="Liz Kimbel":MAILTO:lkimbel@turnaroundinc.org
END:VEVENT
BEGIN:VEVENT
DTSTART;TZID=America/New_York:20290412T160000
DTEND;TZID=America/New_York:20290412T170000
DTSTAMP:20260423T152750
CREATED:20260417T185850Z
LAST-MODIFIED:20260417T190808Z
UID:10005286-1870704000-1870707600@www.turnaroundinc.org
SUMMARY:The Luna Collective: Restoring Ivy Collective
DESCRIPTION:
URL:https://www.turnaroundinc.org/event/the-luna-collective-restoring-ivy-collective/2029-04-12/
CATEGORIES:Virtual
ORGANIZER;CN="Liz Kimbel":MAILTO:lkimbel@turnaroundinc.org
END:VEVENT
BEGIN:VEVENT
DTSTART;TZID=America/New_York:20290413T100000
DTEND;TZID=America/New_York:20290413T110000
DTSTAMP:20260423T152750
CREATED:20250507T185905Z
LAST-MODIFIED:20250508T133233Z
UID:10001256-1870768800-1870772400@www.turnaroundinc.org
SUMMARY:Healing through Movement - (Clients Only)
DESCRIPTION:Healing through Movement – Reclaiming Hope\, Strength\, and Joy! (Clients Only) \nA live instructor will guide you through a stretching routine. \nThis is a Virtual event. \nRegistration
URL:https://www.turnaroundinc.org/event/healing-through-movement-clients-only/2029-04-13/
CATEGORIES:Virtual
ORGANIZER;CN="TurnAround with Cathy Waugh":MAILTO:intake@turnaroundinc.org
END:VEVENT
BEGIN:VEVENT
DTSTART;TZID=America/New_York:20290413T100000
DTEND;TZID=America/New_York:20290413T110000
DTSTAMP:20260423T152750
CREATED:20260417T184947Z
LAST-MODIFIED:20260417T193649Z
UID:10005074-1870768800-1870772400@www.turnaroundinc.org
SUMMARY:The Luna Collective: Healthy Relationships
DESCRIPTION:
URL:https://www.turnaroundinc.org/event/the-luna-collective-healthy-relationships/2029-04-13/
CATEGORIES:Virtual
ORGANIZER;CN="Liz Kimbel":MAILTO:lkimbel@turnaroundinc.org
END:VEVENT
BEGIN:VEVENT
DTSTART;TZID=America/New_York:20290413T120000
DTEND;TZID=America/New_York:20290413T130000
DTSTAMP:20260423T152750
CREATED:20250507T203857Z
LAST-MODIFIED:20250508T142001Z
UID:10004652-1870776000-1870779600@www.turnaroundinc.org
SUMMARY:Healing through Movement - (Clients Only)
DESCRIPTION:Healing through Movement – Reclaiming Hope\, Strength\, and Joy! (Clients Only) \nA live instructor will guide you through a stretching routine. \nThis is a Virtual event. \nRegistration
URL:https://www.turnaroundinc.org/event/healing-through-movement-clients-only-3/2029-04-13/
CATEGORIES:Virtual
ORGANIZER;CN="TurnAround with Cathy Waugh":MAILTO:intake@turnaroundinc.org
END:VEVENT
BEGIN:VEVENT
DTSTART;TZID=America/New_York:20290413T130000
DTEND;TZID=America/New_York:20290413T140000
DTSTAMP:20260423T152750
CREATED:20260417T190129Z
LAST-MODIFIED:20260417T190731Z
UID:10005548-1870779600-1870783200@www.turnaroundinc.org
SUMMARY:The Luna Collective
DESCRIPTION:
URL:https://www.turnaroundinc.org/event/the-luna-collective/2029-04-13/
CATEGORIES:Virtual
ORGANIZER;CN="Liz Kimbel":MAILTO:lkimbel@turnaroundinc.org
END:VEVENT
BEGIN:VEVENT
DTSTART;TZID=America/New_York:20290413T170000
DTEND;TZID=America/New_York:20290413T180000
DTSTAMP:20260423T152750
CREATED:20250507T195314Z
LAST-MODIFIED:20250507T210836Z
UID:10003606-1870794000-1870797600@www.turnaroundinc.org
SUMMARY:The Luna Project: SMART Recovery
DESCRIPTION:All survivors welcome! If interested\, contact your advocate or therapist for an interal referral\, or if not an existing TurnAround client\, call our main line at 410-377-8111 to be enrolled in The Luna Project today! This is a virtual event.
URL:https://www.turnaroundinc.org/event/the-luna-project-smart-recovery-2/2029-04-13/
CATEGORIES:Virtual
ORGANIZER;CN="Liz Kimbel":MAILTO:lkimbel@turnaroundinc.org
END:VEVENT
END:VCALENDAR