BEGIN:VCALENDAR
VERSION:2.0
PRODID:-//Turn Around, Inc. - ECPv6.15.20//NONSGML v1.0//EN
CALSCALE:GREGORIAN
METHOD:PUBLISH
X-WR-CALNAME:Turn Around, Inc.
X-ORIGINAL-URL:https://www.turnaroundinc.org
X-WR-CALDESC:Events for Turn Around, Inc.
REFRESH-INTERVAL;VALUE=DURATION:PT1H
X-Robots-Tag:noindex
X-PUBLISHED-TTL:PT1H
BEGIN:VTIMEZONE
TZID:America/New_York
BEGIN:DAYLIGHT
TZOFFSETFROM:-0500
TZOFFSETTO:-0400
TZNAME:EDT
DTSTART:20280312T070000
END:DAYLIGHT
BEGIN:STANDARD
TZOFFSETFROM:-0400
TZOFFSETTO:-0500
TZNAME:EST
DTSTART:20281105T060000
END:STANDARD
BEGIN:DAYLIGHT
TZOFFSETFROM:-0500
TZOFFSETTO:-0400
TZNAME:EDT
DTSTART:20290311T070000
END:DAYLIGHT
BEGIN:STANDARD
TZOFFSETFROM:-0400
TZOFFSETTO:-0500
TZNAME:EST
DTSTART:20291104T060000
END:STANDARD
BEGIN:DAYLIGHT
TZOFFSETFROM:-0500
TZOFFSETTO:-0400
TZNAME:EDT
DTSTART:20300310T070000
END:DAYLIGHT
BEGIN:STANDARD
TZOFFSETFROM:-0400
TZOFFSETTO:-0500
TZNAME:EST
DTSTART:20301103T060000
END:STANDARD
END:VTIMEZONE
BEGIN:VEVENT
DTSTART;TZID=America/New_York:20291109T100000
DTEND;TZID=America/New_York:20291109T110000
DTSTAMP:20260424T202835
CREATED:20260417T184947Z
LAST-MODIFIED:20260417T193649Z
UID:10005089-1888912800-1888916400@www.turnaroundinc.org
SUMMARY:The Luna Collective: Healthy Relationships
DESCRIPTION:
URL:https://www.turnaroundinc.org/event/the-luna-collective-healthy-relationships/2029-11-09/
CATEGORIES:Virtual
ORGANIZER;CN="Liz Kimbel":MAILTO:lkimbel@turnaroundinc.org
END:VEVENT
BEGIN:VEVENT
DTSTART;TZID=America/New_York:20291109T120000
DTEND;TZID=America/New_York:20291109T130000
DTSTAMP:20260424T202835
CREATED:20250507T203857Z
LAST-MODIFIED:20250508T142001Z
UID:10004682-1888920000-1888923600@www.turnaroundinc.org
SUMMARY:Healing through Movement - (Clients Only)
DESCRIPTION:Healing through Movement – Reclaiming Hope\, Strength\, and Joy! (Clients Only) \nA live instructor will guide you through a stretching routine. \nThis is a Virtual event. \nRegistration
URL:https://www.turnaroundinc.org/event/healing-through-movement-clients-only-3/2029-11-09/
CATEGORIES:Virtual
ORGANIZER;CN="TurnAround with Cathy Waugh":MAILTO:intake@turnaroundinc.org
END:VEVENT
BEGIN:VEVENT
DTSTART;TZID=America/New_York:20291109T130000
DTEND;TZID=America/New_York:20291109T140000
DTSTAMP:20260424T202835
CREATED:20260417T190129Z
LAST-MODIFIED:20260417T190731Z
UID:10005578-1888923600-1888927200@www.turnaroundinc.org
SUMMARY:The Luna Collective
DESCRIPTION:
URL:https://www.turnaroundinc.org/event/the-luna-collective/2029-11-09/
CATEGORIES:Virtual
ORGANIZER;CN="Liz Kimbel":MAILTO:lkimbel@turnaroundinc.org
END:VEVENT
BEGIN:VEVENT
DTSTART;TZID=America/New_York:20291109T170000
DTEND;TZID=America/New_York:20291109T180000
DTSTAMP:20260424T202835
CREATED:20250507T195314Z
LAST-MODIFIED:20250507T210836Z
UID:10003636-1888938000-1888941600@www.turnaroundinc.org
SUMMARY:The Luna Project: SMART Recovery
DESCRIPTION:All survivors welcome! If interested\, contact your advocate or therapist for an interal referral\, or if not an existing TurnAround client\, call our main line at 410-377-8111 to be enrolled in The Luna Project today! This is a virtual event.
URL:https://www.turnaroundinc.org/event/the-luna-project-smart-recovery-2/2029-11-09/
CATEGORIES:Virtual
ORGANIZER;CN="Liz Kimbel":MAILTO:lkimbel@turnaroundinc.org
END:VEVENT
BEGIN:VEVENT
DTSTART;TZID=America/New_York:20291113T110000
DTEND;TZID=America/New_York:20291113T120000
DTSTAMP:20260424T202835
CREATED:20250507T185035Z
LAST-MODIFIED:20250508T133047Z
UID:10000763-1889262000-1889265600@www.turnaroundinc.org
SUMMARY:Healing through Movement - (Clients Only)
DESCRIPTION:Healing through Movement – Reclaiming Hope\, Strength\, and Joy! (Clients Only) \nA live instructor will guide you through a stretching routine. \nThis is a Virtual event. \nRegistration
URL:https://www.turnaroundinc.org/event/healing-through-movement/2029-11-13/
CATEGORIES:Virtual
ORGANIZER;CN="TurnAround with Cathy Waugh":MAILTO:intake@turnaroundinc.org
END:VEVENT
BEGIN:VEVENT
DTSTART;TZID=America/New_York:20291113T130000
DTEND;TZID=America/New_York:20291113T140000
DTSTAMP:20260424T202835
CREATED:20250507T203634Z
LAST-MODIFIED:20250508T141900Z
UID:10004160-1889269200-1889272800@www.turnaroundinc.org
SUMMARY:Healing through Movement - (Clients Only)
DESCRIPTION:Healing through Movement – Reclaiming Hope\, Strength\, and Joy! (Clients Only) \nA live instructor will guide you through a stretching routine. \nThis is a Virtual event. \nRegistration
URL:https://www.turnaroundinc.org/event/healing-through-movement-clients-only-2/2029-11-13/
CATEGORIES:Virtual
ORGANIZER;CN="TurnAround with Cathy Waugh":MAILTO:intake@turnaroundinc.org
END:VEVENT
BEGIN:VEVENT
DTSTART;TZID=America/New_York:20291114T120000
DTEND;TZID=America/New_York:20291114T130000
DTSTAMP:20260424T202835
CREATED:20260417T190617Z
LAST-MODIFIED:20260417T190639Z
UID:10005839-1889352000-1889355600@www.turnaroundinc.org
SUMMARY:The Luna Collective: The Healing Thread
DESCRIPTION:
URL:https://www.turnaroundinc.org/event/the-luna-collective-the-healing-thread/2029-11-14/
CATEGORIES:Virtual
ORGANIZER;CN="Liz Kimbel":MAILTO:lkimbel@turnaroundinc.org
END:VEVENT
BEGIN:VEVENT
DTSTART;TZID=America/New_York:20291115T160000
DTEND;TZID=America/New_York:20291115T170000
DTSTAMP:20260424T202835
CREATED:20260417T185850Z
LAST-MODIFIED:20260417T190808Z
UID:10005317-1889452800-1889456400@www.turnaroundinc.org
SUMMARY:The Luna Collective: Restoring Ivy Collective
DESCRIPTION:
URL:https://www.turnaroundinc.org/event/the-luna-collective-restoring-ivy-collective/2029-11-15/
CATEGORIES:Virtual
ORGANIZER;CN="Liz Kimbel":MAILTO:lkimbel@turnaroundinc.org
END:VEVENT
BEGIN:VEVENT
DTSTART;TZID=America/New_York:20291116T100000
DTEND;TZID=America/New_York:20291116T110000
DTSTAMP:20260424T202835
CREATED:20250507T185905Z
LAST-MODIFIED:20250508T133233Z
UID:10001287-1889517600-1889521200@www.turnaroundinc.org
SUMMARY:Healing through Movement - (Clients Only)
DESCRIPTION:Healing through Movement – Reclaiming Hope\, Strength\, and Joy! (Clients Only) \nA live instructor will guide you through a stretching routine. \nThis is a Virtual event. \nRegistration
URL:https://www.turnaroundinc.org/event/healing-through-movement-clients-only/2029-11-16/
CATEGORIES:Virtual
ORGANIZER;CN="TurnAround with Cathy Waugh":MAILTO:intake@turnaroundinc.org
END:VEVENT
BEGIN:VEVENT
DTSTART;TZID=America/New_York:20291116T120000
DTEND;TZID=America/New_York:20291116T130000
DTSTAMP:20260424T202835
CREATED:20250507T203857Z
LAST-MODIFIED:20250508T142001Z
UID:10004683-1889524800-1889528400@www.turnaroundinc.org
SUMMARY:Healing through Movement - (Clients Only)
DESCRIPTION:Healing through Movement – Reclaiming Hope\, Strength\, and Joy! (Clients Only) \nA live instructor will guide you through a stretching routine. \nThis is a Virtual event. \nRegistration
URL:https://www.turnaroundinc.org/event/healing-through-movement-clients-only-3/2029-11-16/
CATEGORIES:Virtual
ORGANIZER;CN="TurnAround with Cathy Waugh":MAILTO:intake@turnaroundinc.org
END:VEVENT
BEGIN:VEVENT
DTSTART;TZID=America/New_York:20291116T130000
DTEND;TZID=America/New_York:20291116T140000
DTSTAMP:20260424T202835
CREATED:20260417T190129Z
LAST-MODIFIED:20260417T190731Z
UID:10005579-1889528400-1889532000@www.turnaroundinc.org
SUMMARY:The Luna Collective
DESCRIPTION:
URL:https://www.turnaroundinc.org/event/the-luna-collective/2029-11-16/
CATEGORIES:Virtual
ORGANIZER;CN="Liz Kimbel":MAILTO:lkimbel@turnaroundinc.org
END:VEVENT
BEGIN:VEVENT
DTSTART;TZID=America/New_York:20291116T170000
DTEND;TZID=America/New_York:20291116T180000
DTSTAMP:20260424T202835
CREATED:20250507T195314Z
LAST-MODIFIED:20250507T210836Z
UID:10003637-1889542800-1889546400@www.turnaroundinc.org
SUMMARY:The Luna Project: SMART Recovery
DESCRIPTION:All survivors welcome! If interested\, contact your advocate or therapist for an interal referral\, or if not an existing TurnAround client\, call our main line at 410-377-8111 to be enrolled in The Luna Project today! This is a virtual event.
URL:https://www.turnaroundinc.org/event/the-luna-project-smart-recovery-2/2029-11-16/
CATEGORIES:Virtual
ORGANIZER;CN="Liz Kimbel":MAILTO:lkimbel@turnaroundinc.org
END:VEVENT
BEGIN:VEVENT
DTSTART;TZID=America/New_York:20291120T110000
DTEND;TZID=America/New_York:20291120T120000
DTSTAMP:20260424T202835
CREATED:20250507T185035Z
LAST-MODIFIED:20250508T133047Z
UID:10000764-1889866800-1889870400@www.turnaroundinc.org
SUMMARY:Healing through Movement - (Clients Only)
DESCRIPTION:Healing through Movement – Reclaiming Hope\, Strength\, and Joy! (Clients Only) \nA live instructor will guide you through a stretching routine. \nThis is a Virtual event. \nRegistration
URL:https://www.turnaroundinc.org/event/healing-through-movement/2029-11-20/
CATEGORIES:Virtual
ORGANIZER;CN="TurnAround with Cathy Waugh":MAILTO:intake@turnaroundinc.org
END:VEVENT
BEGIN:VEVENT
DTSTART;TZID=America/New_York:20291120T130000
DTEND;TZID=America/New_York:20291120T140000
DTSTAMP:20260424T202835
CREATED:20250507T203634Z
LAST-MODIFIED:20250508T141900Z
UID:10004161-1889874000-1889877600@www.turnaroundinc.org
SUMMARY:Healing through Movement - (Clients Only)
DESCRIPTION:Healing through Movement – Reclaiming Hope\, Strength\, and Joy! (Clients Only) \nA live instructor will guide you through a stretching routine. \nThis is a Virtual event. \nRegistration
URL:https://www.turnaroundinc.org/event/healing-through-movement-clients-only-2/2029-11-20/
CATEGORIES:Virtual
ORGANIZER;CN="TurnAround with Cathy Waugh":MAILTO:intake@turnaroundinc.org
END:VEVENT
BEGIN:VEVENT
DTSTART;TZID=America/New_York:20291121T120000
DTEND;TZID=America/New_York:20291121T130000
DTSTAMP:20260424T202835
CREATED:20260417T190617Z
LAST-MODIFIED:20260417T190639Z
UID:10005840-1889956800-1889960400@www.turnaroundinc.org
SUMMARY:The Luna Collective: The Healing Thread
DESCRIPTION:
URL:https://www.turnaroundinc.org/event/the-luna-collective-the-healing-thread/2029-11-21/
CATEGORIES:Virtual
ORGANIZER;CN="Liz Kimbel":MAILTO:lkimbel@turnaroundinc.org
END:VEVENT
BEGIN:VEVENT
DTSTART;TZID=America/New_York:20291122T160000
DTEND;TZID=America/New_York:20291122T170000
DTSTAMP:20260424T202835
CREATED:20260417T185850Z
LAST-MODIFIED:20260417T190808Z
UID:10005318-1890057600-1890061200@www.turnaroundinc.org
SUMMARY:The Luna Collective: Restoring Ivy Collective
DESCRIPTION:
URL:https://www.turnaroundinc.org/event/the-luna-collective-restoring-ivy-collective/2029-11-22/
CATEGORIES:Virtual
ORGANIZER;CN="Liz Kimbel":MAILTO:lkimbel@turnaroundinc.org
END:VEVENT
BEGIN:VEVENT
DTSTART;TZID=America/New_York:20291123T100000
DTEND;TZID=America/New_York:20291123T110000
DTSTAMP:20260424T202835
CREATED:20250507T185905Z
LAST-MODIFIED:20250508T133233Z
UID:10001288-1890122400-1890126000@www.turnaroundinc.org
SUMMARY:Healing through Movement - (Clients Only)
DESCRIPTION:Healing through Movement – Reclaiming Hope\, Strength\, and Joy! (Clients Only) \nA live instructor will guide you through a stretching routine. \nThis is a Virtual event. \nRegistration
URL:https://www.turnaroundinc.org/event/healing-through-movement-clients-only/2029-11-23/
CATEGORIES:Virtual
ORGANIZER;CN="TurnAround with Cathy Waugh":MAILTO:intake@turnaroundinc.org
END:VEVENT
BEGIN:VEVENT
DTSTART;TZID=America/New_York:20291123T100000
DTEND;TZID=America/New_York:20291123T110000
DTSTAMP:20260424T202835
CREATED:20260417T184947Z
LAST-MODIFIED:20260417T193649Z
UID:10005090-1890122400-1890126000@www.turnaroundinc.org
SUMMARY:The Luna Collective: Healthy Relationships
DESCRIPTION:
URL:https://www.turnaroundinc.org/event/the-luna-collective-healthy-relationships/2029-11-23/
CATEGORIES:Virtual
ORGANIZER;CN="Liz Kimbel":MAILTO:lkimbel@turnaroundinc.org
END:VEVENT
BEGIN:VEVENT
DTSTART;TZID=America/New_York:20291123T120000
DTEND;TZID=America/New_York:20291123T130000
DTSTAMP:20260424T202835
CREATED:20250507T203857Z
LAST-MODIFIED:20250508T142001Z
UID:10004684-1890129600-1890133200@www.turnaroundinc.org
SUMMARY:Healing through Movement - (Clients Only)
DESCRIPTION:Healing through Movement – Reclaiming Hope\, Strength\, and Joy! (Clients Only) \nA live instructor will guide you through a stretching routine. \nThis is a Virtual event. \nRegistration
URL:https://www.turnaroundinc.org/event/healing-through-movement-clients-only-3/2029-11-23/
CATEGORIES:Virtual
ORGANIZER;CN="TurnAround with Cathy Waugh":MAILTO:intake@turnaroundinc.org
END:VEVENT
BEGIN:VEVENT
DTSTART;TZID=America/New_York:20291123T130000
DTEND;TZID=America/New_York:20291123T140000
DTSTAMP:20260424T202835
CREATED:20260417T190129Z
LAST-MODIFIED:20260417T190731Z
UID:10005580-1890133200-1890136800@www.turnaroundinc.org
SUMMARY:The Luna Collective
DESCRIPTION:
URL:https://www.turnaroundinc.org/event/the-luna-collective/2029-11-23/
CATEGORIES:Virtual
ORGANIZER;CN="Liz Kimbel":MAILTO:lkimbel@turnaroundinc.org
END:VEVENT
BEGIN:VEVENT
DTSTART;TZID=America/New_York:20291123T170000
DTEND;TZID=America/New_York:20291123T180000
DTSTAMP:20260424T202835
CREATED:20250507T195314Z
LAST-MODIFIED:20250507T210836Z
UID:10003638-1890147600-1890151200@www.turnaroundinc.org
SUMMARY:The Luna Project: SMART Recovery
DESCRIPTION:All survivors welcome! If interested\, contact your advocate or therapist for an interal referral\, or if not an existing TurnAround client\, call our main line at 410-377-8111 to be enrolled in The Luna Project today! This is a virtual event.
URL:https://www.turnaroundinc.org/event/the-luna-project-smart-recovery-2/2029-11-23/
CATEGORIES:Virtual
ORGANIZER;CN="Liz Kimbel":MAILTO:lkimbel@turnaroundinc.org
END:VEVENT
BEGIN:VEVENT
DTSTART;TZID=America/New_York:20291127T110000
DTEND;TZID=America/New_York:20291127T120000
DTSTAMP:20260424T202835
CREATED:20250507T185035Z
LAST-MODIFIED:20250508T133047Z
UID:10000765-1890471600-1890475200@www.turnaroundinc.org
SUMMARY:Healing through Movement - (Clients Only)
DESCRIPTION:Healing through Movement – Reclaiming Hope\, Strength\, and Joy! (Clients Only) \nA live instructor will guide you through a stretching routine. \nThis is a Virtual event. \nRegistration
URL:https://www.turnaroundinc.org/event/healing-through-movement/2029-11-27/
CATEGORIES:Virtual
ORGANIZER;CN="TurnAround with Cathy Waugh":MAILTO:intake@turnaroundinc.org
END:VEVENT
BEGIN:VEVENT
DTSTART;TZID=America/New_York:20291127T130000
DTEND;TZID=America/New_York:20291127T140000
DTSTAMP:20260424T202835
CREATED:20250507T203634Z
LAST-MODIFIED:20250508T141900Z
UID:10004162-1890478800-1890482400@www.turnaroundinc.org
SUMMARY:Healing through Movement - (Clients Only)
DESCRIPTION:Healing through Movement – Reclaiming Hope\, Strength\, and Joy! (Clients Only) \nA live instructor will guide you through a stretching routine. \nThis is a Virtual event. \nRegistration
URL:https://www.turnaroundinc.org/event/healing-through-movement-clients-only-2/2029-11-27/
CATEGORIES:Virtual
ORGANIZER;CN="TurnAround with Cathy Waugh":MAILTO:intake@turnaroundinc.org
END:VEVENT
BEGIN:VEVENT
DTSTART;TZID=America/New_York:20291128T120000
DTEND;TZID=America/New_York:20291128T130000
DTSTAMP:20260424T202835
CREATED:20260417T190617Z
LAST-MODIFIED:20260417T190639Z
UID:10005841-1890561600-1890565200@www.turnaroundinc.org
SUMMARY:The Luna Collective: The Healing Thread
DESCRIPTION:
URL:https://www.turnaroundinc.org/event/the-luna-collective-the-healing-thread/2029-11-28/
CATEGORIES:Virtual
ORGANIZER;CN="Liz Kimbel":MAILTO:lkimbel@turnaroundinc.org
END:VEVENT
BEGIN:VEVENT
DTSTART;TZID=America/New_York:20291129T160000
DTEND;TZID=America/New_York:20291129T170000
DTSTAMP:20260424T202835
CREATED:20260417T185850Z
LAST-MODIFIED:20260417T190808Z
UID:10005319-1890662400-1890666000@www.turnaroundinc.org
SUMMARY:The Luna Collective: Restoring Ivy Collective
DESCRIPTION:
URL:https://www.turnaroundinc.org/event/the-luna-collective-restoring-ivy-collective/2029-11-29/
CATEGORIES:Virtual
ORGANIZER;CN="Liz Kimbel":MAILTO:lkimbel@turnaroundinc.org
END:VEVENT
BEGIN:VEVENT
DTSTART;TZID=America/New_York:20291130T100000
DTEND;TZID=America/New_York:20291130T110000
DTSTAMP:20260424T202835
CREATED:20250507T185905Z
LAST-MODIFIED:20250508T133233Z
UID:10001289-1890727200-1890730800@www.turnaroundinc.org
SUMMARY:Healing through Movement - (Clients Only)
DESCRIPTION:Healing through Movement – Reclaiming Hope\, Strength\, and Joy! (Clients Only) \nA live instructor will guide you through a stretching routine. \nThis is a Virtual event. \nRegistration
URL:https://www.turnaroundinc.org/event/healing-through-movement-clients-only/2029-11-30/
CATEGORIES:Virtual
ORGANIZER;CN="TurnAround with Cathy Waugh":MAILTO:intake@turnaroundinc.org
END:VEVENT
BEGIN:VEVENT
DTSTART;TZID=America/New_York:20291130T120000
DTEND;TZID=America/New_York:20291130T130000
DTSTAMP:20260424T202835
CREATED:20250507T203857Z
LAST-MODIFIED:20250508T142001Z
UID:10004685-1890734400-1890738000@www.turnaroundinc.org
SUMMARY:Healing through Movement - (Clients Only)
DESCRIPTION:Healing through Movement – Reclaiming Hope\, Strength\, and Joy! (Clients Only) \nA live instructor will guide you through a stretching routine. \nThis is a Virtual event. \nRegistration
URL:https://www.turnaroundinc.org/event/healing-through-movement-clients-only-3/2029-11-30/
CATEGORIES:Virtual
ORGANIZER;CN="TurnAround with Cathy Waugh":MAILTO:intake@turnaroundinc.org
END:VEVENT
BEGIN:VEVENT
DTSTART;TZID=America/New_York:20291130T130000
DTEND;TZID=America/New_York:20291130T140000
DTSTAMP:20260424T202835
CREATED:20260417T190129Z
LAST-MODIFIED:20260417T190731Z
UID:10005581-1890738000-1890741600@www.turnaroundinc.org
SUMMARY:The Luna Collective
DESCRIPTION:
URL:https://www.turnaroundinc.org/event/the-luna-collective/2029-11-30/
CATEGORIES:Virtual
ORGANIZER;CN="Liz Kimbel":MAILTO:lkimbel@turnaroundinc.org
END:VEVENT
BEGIN:VEVENT
DTSTART;TZID=America/New_York:20291130T170000
DTEND;TZID=America/New_York:20291130T180000
DTSTAMP:20260424T202835
CREATED:20250507T195314Z
LAST-MODIFIED:20250507T210836Z
UID:10003639-1890752400-1890756000@www.turnaroundinc.org
SUMMARY:The Luna Project: SMART Recovery
DESCRIPTION:All survivors welcome! If interested\, contact your advocate or therapist for an interal referral\, or if not an existing TurnAround client\, call our main line at 410-377-8111 to be enrolled in The Luna Project today! This is a virtual event.
URL:https://www.turnaroundinc.org/event/the-luna-project-smart-recovery-2/2029-11-30/
CATEGORIES:Virtual
ORGANIZER;CN="Liz Kimbel":MAILTO:lkimbel@turnaroundinc.org
END:VEVENT
BEGIN:VEVENT
DTSTART;TZID=America/New_York:20291204T110000
DTEND;TZID=America/New_York:20291204T120000
DTSTAMP:20260424T202835
CREATED:20250507T185035Z
LAST-MODIFIED:20250508T133047Z
UID:10000766-1891076400-1891080000@www.turnaroundinc.org
SUMMARY:Healing through Movement - (Clients Only)
DESCRIPTION:Healing through Movement – Reclaiming Hope\, Strength\, and Joy! (Clients Only) \nA live instructor will guide you through a stretching routine. \nThis is a Virtual event. \nRegistration
URL:https://www.turnaroundinc.org/event/healing-through-movement/2029-12-04/
CATEGORIES:Virtual
ORGANIZER;CN="TurnAround with Cathy Waugh":MAILTO:intake@turnaroundinc.org
END:VEVENT
END:VCALENDAR