BEGIN:VCALENDAR
VERSION:2.0
PRODID:-//Turn Around, Inc. - ECPv6.15.20//NONSGML v1.0//EN
CALSCALE:GREGORIAN
METHOD:PUBLISH
X-ORIGINAL-URL:https://www.turnaroundinc.org
X-WR-CALDESC:Events for Turn Around, Inc.
REFRESH-INTERVAL;VALUE=DURATION:PT1H
X-Robots-Tag:noindex
X-PUBLISHED-TTL:PT1H
BEGIN:VTIMEZONE
TZID:America/New_York
BEGIN:DAYLIGHT
TZOFFSETFROM:-0500
TZOFFSETTO:-0400
TZNAME:EDT
DTSTART:20290311T070000
END:DAYLIGHT
BEGIN:STANDARD
TZOFFSETFROM:-0400
TZOFFSETTO:-0500
TZNAME:EST
DTSTART:20291104T060000
END:STANDARD
BEGIN:DAYLIGHT
TZOFFSETFROM:-0500
TZOFFSETTO:-0400
TZNAME:EDT
DTSTART:20300310T070000
END:DAYLIGHT
BEGIN:STANDARD
TZOFFSETFROM:-0400
TZOFFSETTO:-0500
TZNAME:EST
DTSTART:20301103T060000
END:STANDARD
BEGIN:DAYLIGHT
TZOFFSETFROM:-0500
TZOFFSETTO:-0400
TZNAME:EDT
DTSTART:20310309T070000
END:DAYLIGHT
BEGIN:STANDARD
TZOFFSETFROM:-0400
TZOFFSETTO:-0500
TZNAME:EST
DTSTART:20311102T060000
END:STANDARD
END:VTIMEZONE
BEGIN:VEVENT
DTSTART;TZID=America/New_York:20300620T160000
DTEND;TZID=America/New_York:20300620T170000
DTSTAMP:20260425T222307
CREATED:20260417T185850Z
LAST-MODIFIED:20260417T190808Z
UID:10005348-1908201600-1908205200@www.turnaroundinc.org
SUMMARY:The Luna Collective: Restoring Ivy Collective
DESCRIPTION:
URL:https://www.turnaroundinc.org/event/the-luna-collective-restoring-ivy-collective/2030-06-20/
CATEGORIES:Virtual
ORGANIZER;CN="Liz Kimbel":MAILTO:lkimbel@turnaroundinc.org
END:VEVENT
BEGIN:VEVENT
DTSTART;TZID=America/New_York:20300621T100000
DTEND;TZID=America/New_York:20300621T110000
DTSTAMP:20260425T222307
CREATED:20260417T184947Z
LAST-MODIFIED:20260417T193649Z
UID:10005105-1908266400-1908270000@www.turnaroundinc.org
SUMMARY:The Luna Collective: Healthy Relationships
DESCRIPTION:
URL:https://www.turnaroundinc.org/event/the-luna-collective-healthy-relationships/2030-06-21/
CATEGORIES:Virtual
ORGANIZER;CN="Liz Kimbel":MAILTO:lkimbel@turnaroundinc.org
END:VEVENT
BEGIN:VEVENT
DTSTART;TZID=America/New_York:20300621T130000
DTEND;TZID=America/New_York:20300621T140000
DTSTAMP:20260425T222308
CREATED:20260417T190129Z
LAST-MODIFIED:20260417T190731Z
UID:10005610-1908277200-1908280800@www.turnaroundinc.org
SUMMARY:The Luna Collective
DESCRIPTION:
URL:https://www.turnaroundinc.org/event/the-luna-collective/2030-06-21/
CATEGORIES:Virtual
ORGANIZER;CN="Liz Kimbel":MAILTO:lkimbel@turnaroundinc.org
END:VEVENT
BEGIN:VEVENT
DTSTART;TZID=America/New_York:20300626T120000
DTEND;TZID=America/New_York:20300626T130000
DTSTAMP:20260425T222308
CREATED:20260417T190617Z
LAST-MODIFIED:20260417T190639Z
UID:10005871-1908705600-1908709200@www.turnaroundinc.org
SUMMARY:The Luna Collective: The Healing Thread
DESCRIPTION:
URL:https://www.turnaroundinc.org/event/the-luna-collective-the-healing-thread/2030-06-26/
CATEGORIES:Virtual
ORGANIZER;CN="Liz Kimbel":MAILTO:lkimbel@turnaroundinc.org
END:VEVENT
BEGIN:VEVENT
DTSTART;TZID=America/New_York:20300627T160000
DTEND;TZID=America/New_York:20300627T170000
DTSTAMP:20260425T222308
CREATED:20260417T185850Z
LAST-MODIFIED:20260417T190808Z
UID:10005349-1908806400-1908810000@www.turnaroundinc.org
SUMMARY:The Luna Collective: Restoring Ivy Collective
DESCRIPTION:
URL:https://www.turnaroundinc.org/event/the-luna-collective-restoring-ivy-collective/2030-06-27/
CATEGORIES:Virtual
ORGANIZER;CN="Liz Kimbel":MAILTO:lkimbel@turnaroundinc.org
END:VEVENT
BEGIN:VEVENT
DTSTART;TZID=America/New_York:20300628T130000
DTEND;TZID=America/New_York:20300628T140000
DTSTAMP:20260425T222308
CREATED:20260417T190129Z
LAST-MODIFIED:20260417T190731Z
UID:10005611-1908882000-1908885600@www.turnaroundinc.org
SUMMARY:The Luna Collective
DESCRIPTION:
URL:https://www.turnaroundinc.org/event/the-luna-collective/2030-06-28/
CATEGORIES:Virtual
ORGANIZER;CN="Liz Kimbel":MAILTO:lkimbel@turnaroundinc.org
END:VEVENT
BEGIN:VEVENT
DTSTART;TZID=America/New_York:20300703T120000
DTEND;TZID=America/New_York:20300703T130000
DTSTAMP:20260425T222308
CREATED:20260417T190617Z
LAST-MODIFIED:20260417T190639Z
UID:10005872-1909310400-1909314000@www.turnaroundinc.org
SUMMARY:The Luna Collective: The Healing Thread
DESCRIPTION:
URL:https://www.turnaroundinc.org/event/the-luna-collective-the-healing-thread/2030-07-03/
CATEGORIES:Virtual
ORGANIZER;CN="Liz Kimbel":MAILTO:lkimbel@turnaroundinc.org
END:VEVENT
BEGIN:VEVENT
DTSTART;TZID=America/New_York:20300704T160000
DTEND;TZID=America/New_York:20300704T170000
DTSTAMP:20260425T222308
CREATED:20260417T185850Z
LAST-MODIFIED:20260417T190808Z
UID:10005350-1909411200-1909414800@www.turnaroundinc.org
SUMMARY:The Luna Collective: Restoring Ivy Collective
DESCRIPTION:
URL:https://www.turnaroundinc.org/event/the-luna-collective-restoring-ivy-collective/2030-07-04/
CATEGORIES:Virtual
ORGANIZER;CN="Liz Kimbel":MAILTO:lkimbel@turnaroundinc.org
END:VEVENT
BEGIN:VEVENT
DTSTART;TZID=America/New_York:20300705T100000
DTEND;TZID=America/New_York:20300705T110000
DTSTAMP:20260425T222308
CREATED:20260417T184947Z
LAST-MODIFIED:20260417T193649Z
UID:10005106-1909476000-1909479600@www.turnaroundinc.org
SUMMARY:The Luna Collective: Healthy Relationships
DESCRIPTION:
URL:https://www.turnaroundinc.org/event/the-luna-collective-healthy-relationships/2030-07-05/
CATEGORIES:Virtual
ORGANIZER;CN="Liz Kimbel":MAILTO:lkimbel@turnaroundinc.org
END:VEVENT
BEGIN:VEVENT
DTSTART;TZID=America/New_York:20300705T130000
DTEND;TZID=America/New_York:20300705T140000
DTSTAMP:20260425T222308
CREATED:20260417T190129Z
LAST-MODIFIED:20260417T190731Z
UID:10005612-1909486800-1909490400@www.turnaroundinc.org
SUMMARY:The Luna Collective
DESCRIPTION:
URL:https://www.turnaroundinc.org/event/the-luna-collective/2030-07-05/
CATEGORIES:Virtual
ORGANIZER;CN="Liz Kimbel":MAILTO:lkimbel@turnaroundinc.org
END:VEVENT
BEGIN:VEVENT
DTSTART;TZID=America/New_York:20300710T120000
DTEND;TZID=America/New_York:20300710T130000
DTSTAMP:20260425T222308
CREATED:20260417T190617Z
LAST-MODIFIED:20260417T190639Z
UID:10005873-1909915200-1909918800@www.turnaroundinc.org
SUMMARY:The Luna Collective: The Healing Thread
DESCRIPTION:
URL:https://www.turnaroundinc.org/event/the-luna-collective-the-healing-thread/2030-07-10/
CATEGORIES:Virtual
ORGANIZER;CN="Liz Kimbel":MAILTO:lkimbel@turnaroundinc.org
END:VEVENT
BEGIN:VEVENT
DTSTART;TZID=America/New_York:20300711T160000
DTEND;TZID=America/New_York:20300711T170000
DTSTAMP:20260425T222308
CREATED:20260417T185850Z
LAST-MODIFIED:20260417T190808Z
UID:10005351-1910016000-1910019600@www.turnaroundinc.org
SUMMARY:The Luna Collective: Restoring Ivy Collective
DESCRIPTION:
URL:https://www.turnaroundinc.org/event/the-luna-collective-restoring-ivy-collective/2030-07-11/
CATEGORIES:Virtual
ORGANIZER;CN="Liz Kimbel":MAILTO:lkimbel@turnaroundinc.org
END:VEVENT
BEGIN:VEVENT
DTSTART;TZID=America/New_York:20300712T130000
DTEND;TZID=America/New_York:20300712T140000
DTSTAMP:20260425T222308
CREATED:20260417T190129Z
LAST-MODIFIED:20260417T190731Z
UID:10005613-1910091600-1910095200@www.turnaroundinc.org
SUMMARY:The Luna Collective
DESCRIPTION:
URL:https://www.turnaroundinc.org/event/the-luna-collective/2030-07-12/
CATEGORIES:Virtual
ORGANIZER;CN="Liz Kimbel":MAILTO:lkimbel@turnaroundinc.org
END:VEVENT
BEGIN:VEVENT
DTSTART;TZID=America/New_York:20300717T120000
DTEND;TZID=America/New_York:20300717T130000
DTSTAMP:20260425T222308
CREATED:20260417T190617Z
LAST-MODIFIED:20260417T190639Z
UID:10005874-1910520000-1910523600@www.turnaroundinc.org
SUMMARY:The Luna Collective: The Healing Thread
DESCRIPTION:
URL:https://www.turnaroundinc.org/event/the-luna-collective-the-healing-thread/2030-07-17/
CATEGORIES:Virtual
ORGANIZER;CN="Liz Kimbel":MAILTO:lkimbel@turnaroundinc.org
END:VEVENT
BEGIN:VEVENT
DTSTART;TZID=America/New_York:20300718T160000
DTEND;TZID=America/New_York:20300718T170000
DTSTAMP:20260425T222308
CREATED:20260417T185850Z
LAST-MODIFIED:20260417T190808Z
UID:10005352-1910620800-1910624400@www.turnaroundinc.org
SUMMARY:The Luna Collective: Restoring Ivy Collective
DESCRIPTION:
URL:https://www.turnaroundinc.org/event/the-luna-collective-restoring-ivy-collective/2030-07-18/
CATEGORIES:Virtual
ORGANIZER;CN="Liz Kimbel":MAILTO:lkimbel@turnaroundinc.org
END:VEVENT
BEGIN:VEVENT
DTSTART;TZID=America/New_York:20300719T100000
DTEND;TZID=America/New_York:20300719T110000
DTSTAMP:20260425T222308
CREATED:20260417T184947Z
LAST-MODIFIED:20260417T193649Z
UID:10005107-1910685600-1910689200@www.turnaroundinc.org
SUMMARY:The Luna Collective: Healthy Relationships
DESCRIPTION:
URL:https://www.turnaroundinc.org/event/the-luna-collective-healthy-relationships/2030-07-19/
CATEGORIES:Virtual
ORGANIZER;CN="Liz Kimbel":MAILTO:lkimbel@turnaroundinc.org
END:VEVENT
BEGIN:VEVENT
DTSTART;TZID=America/New_York:20300719T130000
DTEND;TZID=America/New_York:20300719T140000
DTSTAMP:20260425T222308
CREATED:20260417T190129Z
LAST-MODIFIED:20260417T190731Z
UID:10005614-1910696400-1910700000@www.turnaroundinc.org
SUMMARY:The Luna Collective
DESCRIPTION:
URL:https://www.turnaroundinc.org/event/the-luna-collective/2030-07-19/
CATEGORIES:Virtual
ORGANIZER;CN="Liz Kimbel":MAILTO:lkimbel@turnaroundinc.org
END:VEVENT
BEGIN:VEVENT
DTSTART;TZID=America/New_York:20300724T120000
DTEND;TZID=America/New_York:20300724T130000
DTSTAMP:20260425T222308
CREATED:20260417T190617Z
LAST-MODIFIED:20260417T190639Z
UID:10005875-1911124800-1911128400@www.turnaroundinc.org
SUMMARY:The Luna Collective: The Healing Thread
DESCRIPTION:
URL:https://www.turnaroundinc.org/event/the-luna-collective-the-healing-thread/2030-07-24/
CATEGORIES:Virtual
ORGANIZER;CN="Liz Kimbel":MAILTO:lkimbel@turnaroundinc.org
END:VEVENT
BEGIN:VEVENT
DTSTART;TZID=America/New_York:20300725T160000
DTEND;TZID=America/New_York:20300725T170000
DTSTAMP:20260425T222308
CREATED:20260417T185850Z
LAST-MODIFIED:20260417T190808Z
UID:10005353-1911225600-1911229200@www.turnaroundinc.org
SUMMARY:The Luna Collective: Restoring Ivy Collective
DESCRIPTION:
URL:https://www.turnaroundinc.org/event/the-luna-collective-restoring-ivy-collective/2030-07-25/
CATEGORIES:Virtual
ORGANIZER;CN="Liz Kimbel":MAILTO:lkimbel@turnaroundinc.org
END:VEVENT
BEGIN:VEVENT
DTSTART;TZID=America/New_York:20300726T130000
DTEND;TZID=America/New_York:20300726T140000
DTSTAMP:20260425T222308
CREATED:20260417T190129Z
LAST-MODIFIED:20260417T190731Z
UID:10005615-1911301200-1911304800@www.turnaroundinc.org
SUMMARY:The Luna Collective
DESCRIPTION:
URL:https://www.turnaroundinc.org/event/the-luna-collective/2030-07-26/
CATEGORIES:Virtual
ORGANIZER;CN="Liz Kimbel":MAILTO:lkimbel@turnaroundinc.org
END:VEVENT
BEGIN:VEVENT
DTSTART;TZID=America/New_York:20300731T120000
DTEND;TZID=America/New_York:20300731T130000
DTSTAMP:20260425T222308
CREATED:20260417T190617Z
LAST-MODIFIED:20260417T190639Z
UID:10005876-1911729600-1911733200@www.turnaroundinc.org
SUMMARY:The Luna Collective: The Healing Thread
DESCRIPTION:
URL:https://www.turnaroundinc.org/event/the-luna-collective-the-healing-thread/2030-07-31/
CATEGORIES:Virtual
ORGANIZER;CN="Liz Kimbel":MAILTO:lkimbel@turnaroundinc.org
END:VEVENT
BEGIN:VEVENT
DTSTART;TZID=America/New_York:20300801T160000
DTEND;TZID=America/New_York:20300801T170000
DTSTAMP:20260425T222308
CREATED:20260417T185850Z
LAST-MODIFIED:20260417T190808Z
UID:10005354-1911830400-1911834000@www.turnaroundinc.org
SUMMARY:The Luna Collective: Restoring Ivy Collective
DESCRIPTION:
URL:https://www.turnaroundinc.org/event/the-luna-collective-restoring-ivy-collective/2030-08-01/
CATEGORIES:Virtual
ORGANIZER;CN="Liz Kimbel":MAILTO:lkimbel@turnaroundinc.org
END:VEVENT
BEGIN:VEVENT
DTSTART;TZID=America/New_York:20300802T100000
DTEND;TZID=America/New_York:20300802T110000
DTSTAMP:20260425T222308
CREATED:20260417T184947Z
LAST-MODIFIED:20260417T193649Z
UID:10005108-1911895200-1911898800@www.turnaroundinc.org
SUMMARY:The Luna Collective: Healthy Relationships
DESCRIPTION:
URL:https://www.turnaroundinc.org/event/the-luna-collective-healthy-relationships/2030-08-02/
CATEGORIES:Virtual
ORGANIZER;CN="Liz Kimbel":MAILTO:lkimbel@turnaroundinc.org
END:VEVENT
BEGIN:VEVENT
DTSTART;TZID=America/New_York:20300802T130000
DTEND;TZID=America/New_York:20300802T140000
DTSTAMP:20260425T222308
CREATED:20260417T190129Z
LAST-MODIFIED:20260417T190731Z
UID:10005616-1911906000-1911909600@www.turnaroundinc.org
SUMMARY:The Luna Collective
DESCRIPTION:
URL:https://www.turnaroundinc.org/event/the-luna-collective/2030-08-02/
CATEGORIES:Virtual
ORGANIZER;CN="Liz Kimbel":MAILTO:lkimbel@turnaroundinc.org
END:VEVENT
BEGIN:VEVENT
DTSTART;TZID=America/New_York:20300807T120000
DTEND;TZID=America/New_York:20300807T130000
DTSTAMP:20260425T222308
CREATED:20260417T190617Z
LAST-MODIFIED:20260417T190639Z
UID:10005877-1912334400-1912338000@www.turnaroundinc.org
SUMMARY:The Luna Collective: The Healing Thread
DESCRIPTION:
URL:https://www.turnaroundinc.org/event/the-luna-collective-the-healing-thread/2030-08-07/
CATEGORIES:Virtual
ORGANIZER;CN="Liz Kimbel":MAILTO:lkimbel@turnaroundinc.org
END:VEVENT
BEGIN:VEVENT
DTSTART;TZID=America/New_York:20300808T160000
DTEND;TZID=America/New_York:20300808T170000
DTSTAMP:20260425T222308
CREATED:20260417T185850Z
LAST-MODIFIED:20260417T190808Z
UID:10005355-1912435200-1912438800@www.turnaroundinc.org
SUMMARY:The Luna Collective: Restoring Ivy Collective
DESCRIPTION:
URL:https://www.turnaroundinc.org/event/the-luna-collective-restoring-ivy-collective/2030-08-08/
CATEGORIES:Virtual
ORGANIZER;CN="Liz Kimbel":MAILTO:lkimbel@turnaroundinc.org
END:VEVENT
BEGIN:VEVENT
DTSTART;TZID=America/New_York:20300809T130000
DTEND;TZID=America/New_York:20300809T140000
DTSTAMP:20260425T222308
CREATED:20260417T190129Z
LAST-MODIFIED:20260417T190731Z
UID:10005617-1912510800-1912514400@www.turnaroundinc.org
SUMMARY:The Luna Collective
DESCRIPTION:
URL:https://www.turnaroundinc.org/event/the-luna-collective/2030-08-09/
CATEGORIES:Virtual
ORGANIZER;CN="Liz Kimbel":MAILTO:lkimbel@turnaroundinc.org
END:VEVENT
BEGIN:VEVENT
DTSTART;TZID=America/New_York:20300814T120000
DTEND;TZID=America/New_York:20300814T130000
DTSTAMP:20260425T222308
CREATED:20260417T190617Z
LAST-MODIFIED:20260417T190639Z
UID:10005878-1912939200-1912942800@www.turnaroundinc.org
SUMMARY:The Luna Collective: The Healing Thread
DESCRIPTION:
URL:https://www.turnaroundinc.org/event/the-luna-collective-the-healing-thread/2030-08-14/
CATEGORIES:Virtual
ORGANIZER;CN="Liz Kimbel":MAILTO:lkimbel@turnaroundinc.org
END:VEVENT
BEGIN:VEVENT
DTSTART;TZID=America/New_York:20300815T160000
DTEND;TZID=America/New_York:20300815T170000
DTSTAMP:20260425T222308
CREATED:20260417T185850Z
LAST-MODIFIED:20260417T190808Z
UID:10005356-1913040000-1913043600@www.turnaroundinc.org
SUMMARY:The Luna Collective: Restoring Ivy Collective
DESCRIPTION:
URL:https://www.turnaroundinc.org/event/the-luna-collective-restoring-ivy-collective/2030-08-15/
CATEGORIES:Virtual
ORGANIZER;CN="Liz Kimbel":MAILTO:lkimbel@turnaroundinc.org
END:VEVENT
BEGIN:VEVENT
DTSTART;TZID=America/New_York:20300816T100000
DTEND;TZID=America/New_York:20300816T110000
DTSTAMP:20260425T222308
CREATED:20260417T184947Z
LAST-MODIFIED:20260417T193649Z
UID:10005109-1913104800-1913108400@www.turnaroundinc.org
SUMMARY:The Luna Collective: Healthy Relationships
DESCRIPTION:
URL:https://www.turnaroundinc.org/event/the-luna-collective-healthy-relationships/2030-08-16/
CATEGORIES:Virtual
ORGANIZER;CN="Liz Kimbel":MAILTO:lkimbel@turnaroundinc.org
END:VEVENT
END:VCALENDAR