BEGIN:VCALENDAR
VERSION:2.0
PRODID:-//Turn Around, Inc. - ECPv6.15.20//NONSGML v1.0//EN
CALSCALE:GREGORIAN
METHOD:PUBLISH
X-ORIGINAL-URL:https://www.turnaroundinc.org
X-WR-CALDESC:Events for Turn Around, Inc.
REFRESH-INTERVAL;VALUE=DURATION:PT1H
X-Robots-Tag:noindex
X-PUBLISHED-TTL:PT1H
BEGIN:VTIMEZONE
TZID:America/New_York
BEGIN:DAYLIGHT
TZOFFSETFROM:-0500
TZOFFSETTO:-0400
TZNAME:EDT
DTSTART:20260308T070000
END:DAYLIGHT
BEGIN:STANDARD
TZOFFSETFROM:-0400
TZOFFSETTO:-0500
TZNAME:EST
DTSTART:20261101T060000
END:STANDARD
BEGIN:DAYLIGHT
TZOFFSETFROM:-0500
TZOFFSETTO:-0400
TZNAME:EDT
DTSTART:20270314T070000
END:DAYLIGHT
BEGIN:STANDARD
TZOFFSETFROM:-0400
TZOFFSETTO:-0500
TZNAME:EST
DTSTART:20271107T060000
END:STANDARD
BEGIN:DAYLIGHT
TZOFFSETFROM:-0500
TZOFFSETTO:-0400
TZNAME:EDT
DTSTART:20280312T070000
END:DAYLIGHT
BEGIN:STANDARD
TZOFFSETFROM:-0400
TZOFFSETTO:-0500
TZNAME:EST
DTSTART:20281105T060000
END:STANDARD
END:VTIMEZONE
BEGIN:VEVENT
DTSTART;TZID=America/New_York:20271001T170000
DTEND;TZID=America/New_York:20271001T180000
DTSTAMP:20260420T083928
CREATED:20250507T195314Z
LAST-MODIFIED:20250507T210836Z
UID:10003526-1822410000-1822413600@www.turnaroundinc.org
SUMMARY:The Luna Project: SMART Recovery
DESCRIPTION:All survivors welcome! If interested\, contact your advocate or therapist for an interal referral\, or if not an existing TurnAround client\, call our main line at 410-377-8111 to be enrolled in The Luna Project today! This is a virtual event.
URL:https://www.turnaroundinc.org/event/the-luna-project-smart-recovery-2/2027-10-01/
CATEGORIES:Virtual
ORGANIZER;CN="Liz Kimbel":MAILTO:lkimbel@turnaroundinc.org
END:VEVENT
BEGIN:VEVENT
DTSTART;TZID=America/New_York:20271005T110000
DTEND;TZID=America/New_York:20271005T120000
DTSTAMP:20260420T083928
CREATED:20250507T185035Z
LAST-MODIFIED:20250508T133047Z
UID:10000653-1822734000-1822737600@www.turnaroundinc.org
SUMMARY:Healing through Movement - (Clients Only)
DESCRIPTION:Healing through Movement – Reclaiming Hope\, Strength\, and Joy! (Clients Only) \nA live instructor will guide you through a stretching routine. \nThis is a Virtual event. \nRegistration
URL:https://www.turnaroundinc.org/event/healing-through-movement/2027-10-05/
CATEGORIES:Virtual
ORGANIZER;CN="TurnAround with Cathy Waugh":MAILTO:intake@turnaroundinc.org
END:VEVENT
BEGIN:VEVENT
DTSTART;TZID=America/New_York:20271005T130000
DTEND;TZID=America/New_York:20271005T140000
DTSTAMP:20260420T083928
CREATED:20250507T203634Z
LAST-MODIFIED:20250508T141900Z
UID:10004050-1822741200-1822744800@www.turnaroundinc.org
SUMMARY:Healing through Movement - (Clients Only)
DESCRIPTION:Healing through Movement – Reclaiming Hope\, Strength\, and Joy! (Clients Only) \nA live instructor will guide you through a stretching routine. \nThis is a Virtual event. \nRegistration
URL:https://www.turnaroundinc.org/event/healing-through-movement-clients-only-2/2027-10-05/
CATEGORIES:Virtual
ORGANIZER;CN="TurnAround with Cathy Waugh":MAILTO:intake@turnaroundinc.org
END:VEVENT
BEGIN:VEVENT
DTSTART;TZID=America/New_York:20271006T120000
DTEND;TZID=America/New_York:20271006T130000
DTSTAMP:20260420T083928
CREATED:20260417T190617Z
LAST-MODIFIED:20260417T190639Z
UID:10005729-1822824000-1822827600@www.turnaroundinc.org
SUMMARY:The Luna Collective: The Healing Thread
DESCRIPTION:
URL:https://www.turnaroundinc.org/event/the-luna-collective-the-healing-thread/2027-10-06/
CATEGORIES:Virtual
ORGANIZER;CN="Liz Kimbel":MAILTO:lkimbel@turnaroundinc.org
END:VEVENT
BEGIN:VEVENT
DTSTART;TZID=America/New_York:20271007T160000
DTEND;TZID=America/New_York:20271007T170000
DTSTAMP:20260420T083928
CREATED:20260417T185850Z
LAST-MODIFIED:20260417T190808Z
UID:10005207-1822924800-1822928400@www.turnaroundinc.org
SUMMARY:The Luna Collective: Restoring Ivy Collective
DESCRIPTION:
URL:https://www.turnaroundinc.org/event/the-luna-collective-restoring-ivy-collective/2027-10-07/
CATEGORIES:Virtual
ORGANIZER;CN="Liz Kimbel":MAILTO:lkimbel@turnaroundinc.org
END:VEVENT
BEGIN:VEVENT
DTSTART;TZID=America/New_York:20271008T100000
DTEND;TZID=America/New_York:20271008T110000
DTSTAMP:20260420T083928
CREATED:20250507T185905Z
LAST-MODIFIED:20250508T133233Z
UID:10001177-1822989600-1822993200@www.turnaroundinc.org
SUMMARY:Healing through Movement - (Clients Only)
DESCRIPTION:Healing through Movement – Reclaiming Hope\, Strength\, and Joy! (Clients Only) \nA live instructor will guide you through a stretching routine. \nThis is a Virtual event. \nRegistration
URL:https://www.turnaroundinc.org/event/healing-through-movement-clients-only/2027-10-08/
CATEGORIES:Virtual
ORGANIZER;CN="TurnAround with Cathy Waugh":MAILTO:intake@turnaroundinc.org
END:VEVENT
BEGIN:VEVENT
DTSTART;TZID=America/New_York:20271008T120000
DTEND;TZID=America/New_York:20271008T130000
DTSTAMP:20260420T083928
CREATED:20250507T203857Z
LAST-MODIFIED:20250508T142001Z
UID:10004573-1822996800-1823000400@www.turnaroundinc.org
SUMMARY:Healing through Movement - (Clients Only)
DESCRIPTION:Healing through Movement – Reclaiming Hope\, Strength\, and Joy! (Clients Only) \nA live instructor will guide you through a stretching routine. \nThis is a Virtual event. \nRegistration
URL:https://www.turnaroundinc.org/event/healing-through-movement-clients-only-3/2027-10-08/
CATEGORIES:Virtual
ORGANIZER;CN="TurnAround with Cathy Waugh":MAILTO:intake@turnaroundinc.org
END:VEVENT
BEGIN:VEVENT
DTSTART;TZID=America/New_York:20271008T130000
DTEND;TZID=America/New_York:20271008T140000
DTSTAMP:20260420T083928
CREATED:20260417T190129Z
LAST-MODIFIED:20260417T190731Z
UID:10005469-1823000400-1823004000@www.turnaroundinc.org
SUMMARY:The Luna Collective
DESCRIPTION:
URL:https://www.turnaroundinc.org/event/the-luna-collective/2027-10-08/
CATEGORIES:Virtual
ORGANIZER;CN="Liz Kimbel":MAILTO:lkimbel@turnaroundinc.org
END:VEVENT
BEGIN:VEVENT
DTSTART;TZID=America/New_York:20271008T170000
DTEND;TZID=America/New_York:20271008T180000
DTSTAMP:20260420T083928
CREATED:20250507T195314Z
LAST-MODIFIED:20250507T210836Z
UID:10003527-1823014800-1823018400@www.turnaroundinc.org
SUMMARY:The Luna Project: SMART Recovery
DESCRIPTION:All survivors welcome! If interested\, contact your advocate or therapist for an interal referral\, or if not an existing TurnAround client\, call our main line at 410-377-8111 to be enrolled in The Luna Project today! This is a virtual event.
URL:https://www.turnaroundinc.org/event/the-luna-project-smart-recovery-2/2027-10-08/
CATEGORIES:Virtual
ORGANIZER;CN="Liz Kimbel":MAILTO:lkimbel@turnaroundinc.org
END:VEVENT
BEGIN:VEVENT
DTSTART;TZID=America/New_York:20271012T110000
DTEND;TZID=America/New_York:20271012T120000
DTSTAMP:20260420T083928
CREATED:20250507T185035Z
LAST-MODIFIED:20250508T133047Z
UID:10000654-1823338800-1823342400@www.turnaroundinc.org
SUMMARY:Healing through Movement - (Clients Only)
DESCRIPTION:Healing through Movement – Reclaiming Hope\, Strength\, and Joy! (Clients Only) \nA live instructor will guide you through a stretching routine. \nThis is a Virtual event. \nRegistration
URL:https://www.turnaroundinc.org/event/healing-through-movement/2027-10-12/
CATEGORIES:Virtual
ORGANIZER;CN="TurnAround with Cathy Waugh":MAILTO:intake@turnaroundinc.org
END:VEVENT
BEGIN:VEVENT
DTSTART;TZID=America/New_York:20271012T130000
DTEND;TZID=America/New_York:20271012T140000
DTSTAMP:20260420T083928
CREATED:20250507T203634Z
LAST-MODIFIED:20250508T141900Z
UID:10004051-1823346000-1823349600@www.turnaroundinc.org
SUMMARY:Healing through Movement - (Clients Only)
DESCRIPTION:Healing through Movement – Reclaiming Hope\, Strength\, and Joy! (Clients Only) \nA live instructor will guide you through a stretching routine. \nThis is a Virtual event. \nRegistration
URL:https://www.turnaroundinc.org/event/healing-through-movement-clients-only-2/2027-10-12/
CATEGORIES:Virtual
ORGANIZER;CN="TurnAround with Cathy Waugh":MAILTO:intake@turnaroundinc.org
END:VEVENT
BEGIN:VEVENT
DTSTART;TZID=America/New_York:20271013T120000
DTEND;TZID=America/New_York:20271013T130000
DTSTAMP:20260420T083928
CREATED:20260417T190617Z
LAST-MODIFIED:20260417T190639Z
UID:10005730-1823428800-1823432400@www.turnaroundinc.org
SUMMARY:The Luna Collective: The Healing Thread
DESCRIPTION:
URL:https://www.turnaroundinc.org/event/the-luna-collective-the-healing-thread/2027-10-13/
CATEGORIES:Virtual
ORGANIZER;CN="Liz Kimbel":MAILTO:lkimbel@turnaroundinc.org
END:VEVENT
BEGIN:VEVENT
DTSTART;TZID=America/New_York:20271014T160000
DTEND;TZID=America/New_York:20271014T170000
DTSTAMP:20260420T083928
CREATED:20260417T185850Z
LAST-MODIFIED:20260417T190808Z
UID:10005208-1823529600-1823533200@www.turnaroundinc.org
SUMMARY:The Luna Collective: Restoring Ivy Collective
DESCRIPTION:
URL:https://www.turnaroundinc.org/event/the-luna-collective-restoring-ivy-collective/2027-10-14/
CATEGORIES:Virtual
ORGANIZER;CN="Liz Kimbel":MAILTO:lkimbel@turnaroundinc.org
END:VEVENT
BEGIN:VEVENT
DTSTART;TZID=America/New_York:20271015T100000
DTEND;TZID=America/New_York:20271015T110000
DTSTAMP:20260420T083928
CREATED:20250507T185905Z
LAST-MODIFIED:20250508T133233Z
UID:10001178-1823594400-1823598000@www.turnaroundinc.org
SUMMARY:Healing through Movement - (Clients Only)
DESCRIPTION:Healing through Movement – Reclaiming Hope\, Strength\, and Joy! (Clients Only) \nA live instructor will guide you through a stretching routine. \nThis is a Virtual event. \nRegistration
URL:https://www.turnaroundinc.org/event/healing-through-movement-clients-only/2027-10-15/
CATEGORIES:Virtual
ORGANIZER;CN="TurnAround with Cathy Waugh":MAILTO:intake@turnaroundinc.org
END:VEVENT
BEGIN:VEVENT
DTSTART;TZID=America/New_York:20271015T100000
DTEND;TZID=America/New_York:20271015T110000
DTSTAMP:20260420T083928
CREATED:20260417T184947Z
LAST-MODIFIED:20260417T193649Z
UID:10005035-1823594400-1823598000@www.turnaroundinc.org
SUMMARY:The Luna Collective: Healthy Relationships
DESCRIPTION:
URL:https://www.turnaroundinc.org/event/the-luna-collective-healthy-relationships/2027-10-15/
CATEGORIES:Virtual
ORGANIZER;CN="Liz Kimbel":MAILTO:lkimbel@turnaroundinc.org
END:VEVENT
BEGIN:VEVENT
DTSTART;TZID=America/New_York:20271015T120000
DTEND;TZID=America/New_York:20271015T130000
DTSTAMP:20260420T083928
CREATED:20250507T203857Z
LAST-MODIFIED:20250508T142001Z
UID:10004574-1823601600-1823605200@www.turnaroundinc.org
SUMMARY:Healing through Movement - (Clients Only)
DESCRIPTION:Healing through Movement – Reclaiming Hope\, Strength\, and Joy! (Clients Only) \nA live instructor will guide you through a stretching routine. \nThis is a Virtual event. \nRegistration
URL:https://www.turnaroundinc.org/event/healing-through-movement-clients-only-3/2027-10-15/
CATEGORIES:Virtual
ORGANIZER;CN="TurnAround with Cathy Waugh":MAILTO:intake@turnaroundinc.org
END:VEVENT
BEGIN:VEVENT
DTSTART;TZID=America/New_York:20271015T130000
DTEND;TZID=America/New_York:20271015T140000
DTSTAMP:20260420T083928
CREATED:20260417T190129Z
LAST-MODIFIED:20260417T190731Z
UID:10005470-1823605200-1823608800@www.turnaroundinc.org
SUMMARY:The Luna Collective
DESCRIPTION:
URL:https://www.turnaroundinc.org/event/the-luna-collective/2027-10-15/
CATEGORIES:Virtual
ORGANIZER;CN="Liz Kimbel":MAILTO:lkimbel@turnaroundinc.org
END:VEVENT
BEGIN:VEVENT
DTSTART;TZID=America/New_York:20271015T170000
DTEND;TZID=America/New_York:20271015T180000
DTSTAMP:20260420T083928
CREATED:20250507T195314Z
LAST-MODIFIED:20250507T210836Z
UID:10003528-1823619600-1823623200@www.turnaroundinc.org
SUMMARY:The Luna Project: SMART Recovery
DESCRIPTION:All survivors welcome! If interested\, contact your advocate or therapist for an interal referral\, or if not an existing TurnAround client\, call our main line at 410-377-8111 to be enrolled in The Luna Project today! This is a virtual event.
URL:https://www.turnaroundinc.org/event/the-luna-project-smart-recovery-2/2027-10-15/
CATEGORIES:Virtual
ORGANIZER;CN="Liz Kimbel":MAILTO:lkimbel@turnaroundinc.org
END:VEVENT
BEGIN:VEVENT
DTSTART;TZID=America/New_York:20271019T110000
DTEND;TZID=America/New_York:20271019T120000
DTSTAMP:20260420T083928
CREATED:20250507T185035Z
LAST-MODIFIED:20250508T133047Z
UID:10000655-1823943600-1823947200@www.turnaroundinc.org
SUMMARY:Healing through Movement - (Clients Only)
DESCRIPTION:Healing through Movement – Reclaiming Hope\, Strength\, and Joy! (Clients Only) \nA live instructor will guide you through a stretching routine. \nThis is a Virtual event. \nRegistration
URL:https://www.turnaroundinc.org/event/healing-through-movement/2027-10-19/
CATEGORIES:Virtual
ORGANIZER;CN="TurnAround with Cathy Waugh":MAILTO:intake@turnaroundinc.org
END:VEVENT
BEGIN:VEVENT
DTSTART;TZID=America/New_York:20271019T130000
DTEND;TZID=America/New_York:20271019T140000
DTSTAMP:20260420T083928
CREATED:20250507T203634Z
LAST-MODIFIED:20250508T141900Z
UID:10004052-1823950800-1823954400@www.turnaroundinc.org
SUMMARY:Healing through Movement - (Clients Only)
DESCRIPTION:Healing through Movement – Reclaiming Hope\, Strength\, and Joy! (Clients Only) \nA live instructor will guide you through a stretching routine. \nThis is a Virtual event. \nRegistration
URL:https://www.turnaroundinc.org/event/healing-through-movement-clients-only-2/2027-10-19/
CATEGORIES:Virtual
ORGANIZER;CN="TurnAround with Cathy Waugh":MAILTO:intake@turnaroundinc.org
END:VEVENT
BEGIN:VEVENT
DTSTART;TZID=America/New_York:20271020T120000
DTEND;TZID=America/New_York:20271020T130000
DTSTAMP:20260420T083928
CREATED:20260417T190617Z
LAST-MODIFIED:20260417T190639Z
UID:10005731-1824033600-1824037200@www.turnaroundinc.org
SUMMARY:The Luna Collective: The Healing Thread
DESCRIPTION:
URL:https://www.turnaroundinc.org/event/the-luna-collective-the-healing-thread/2027-10-20/
CATEGORIES:Virtual
ORGANIZER;CN="Liz Kimbel":MAILTO:lkimbel@turnaroundinc.org
END:VEVENT
BEGIN:VEVENT
DTSTART;TZID=America/New_York:20271021T160000
DTEND;TZID=America/New_York:20271021T170000
DTSTAMP:20260420T083928
CREATED:20260417T185850Z
LAST-MODIFIED:20260417T190808Z
UID:10005209-1824134400-1824138000@www.turnaroundinc.org
SUMMARY:The Luna Collective: Restoring Ivy Collective
DESCRIPTION:
URL:https://www.turnaroundinc.org/event/the-luna-collective-restoring-ivy-collective/2027-10-21/
CATEGORIES:Virtual
ORGANIZER;CN="Liz Kimbel":MAILTO:lkimbel@turnaroundinc.org
END:VEVENT
BEGIN:VEVENT
DTSTART;TZID=America/New_York:20271022T100000
DTEND;TZID=America/New_York:20271022T110000
DTSTAMP:20260420T083928
CREATED:20250507T185905Z
LAST-MODIFIED:20250508T133233Z
UID:10001179-1824199200-1824202800@www.turnaroundinc.org
SUMMARY:Healing through Movement - (Clients Only)
DESCRIPTION:Healing through Movement – Reclaiming Hope\, Strength\, and Joy! (Clients Only) \nA live instructor will guide you through a stretching routine. \nThis is a Virtual event. \nRegistration
URL:https://www.turnaroundinc.org/event/healing-through-movement-clients-only/2027-10-22/
CATEGORIES:Virtual
ORGANIZER;CN="TurnAround with Cathy Waugh":MAILTO:intake@turnaroundinc.org
END:VEVENT
BEGIN:VEVENT
DTSTART;TZID=America/New_York:20271022T120000
DTEND;TZID=America/New_York:20271022T130000
DTSTAMP:20260420T083928
CREATED:20250507T203857Z
LAST-MODIFIED:20250508T142001Z
UID:10004575-1824206400-1824210000@www.turnaroundinc.org
SUMMARY:Healing through Movement - (Clients Only)
DESCRIPTION:Healing through Movement – Reclaiming Hope\, Strength\, and Joy! (Clients Only) \nA live instructor will guide you through a stretching routine. \nThis is a Virtual event. \nRegistration
URL:https://www.turnaroundinc.org/event/healing-through-movement-clients-only-3/2027-10-22/
CATEGORIES:Virtual
ORGANIZER;CN="TurnAround with Cathy Waugh":MAILTO:intake@turnaroundinc.org
END:VEVENT
BEGIN:VEVENT
DTSTART;TZID=America/New_York:20271022T130000
DTEND;TZID=America/New_York:20271022T140000
DTSTAMP:20260420T083928
CREATED:20260417T190129Z
LAST-MODIFIED:20260417T190731Z
UID:10005471-1824210000-1824213600@www.turnaroundinc.org
SUMMARY:The Luna Collective
DESCRIPTION:
URL:https://www.turnaroundinc.org/event/the-luna-collective/2027-10-22/
CATEGORIES:Virtual
ORGANIZER;CN="Liz Kimbel":MAILTO:lkimbel@turnaroundinc.org
END:VEVENT
BEGIN:VEVENT
DTSTART;TZID=America/New_York:20271022T170000
DTEND;TZID=America/New_York:20271022T180000
DTSTAMP:20260420T083928
CREATED:20250507T195314Z
LAST-MODIFIED:20250507T210836Z
UID:10003529-1824224400-1824228000@www.turnaroundinc.org
SUMMARY:The Luna Project: SMART Recovery
DESCRIPTION:All survivors welcome! If interested\, contact your advocate or therapist for an interal referral\, or if not an existing TurnAround client\, call our main line at 410-377-8111 to be enrolled in The Luna Project today! This is a virtual event.
URL:https://www.turnaroundinc.org/event/the-luna-project-smart-recovery-2/2027-10-22/
CATEGORIES:Virtual
ORGANIZER;CN="Liz Kimbel":MAILTO:lkimbel@turnaroundinc.org
END:VEVENT
BEGIN:VEVENT
DTSTART;TZID=America/New_York:20271026T110000
DTEND;TZID=America/New_York:20271026T120000
DTSTAMP:20260420T083928
CREATED:20250507T185035Z
LAST-MODIFIED:20250508T133047Z
UID:10000656-1824548400-1824552000@www.turnaroundinc.org
SUMMARY:Healing through Movement - (Clients Only)
DESCRIPTION:Healing through Movement – Reclaiming Hope\, Strength\, and Joy! (Clients Only) \nA live instructor will guide you through a stretching routine. \nThis is a Virtual event. \nRegistration
URL:https://www.turnaroundinc.org/event/healing-through-movement/2027-10-26/
CATEGORIES:Virtual
ORGANIZER;CN="TurnAround with Cathy Waugh":MAILTO:intake@turnaroundinc.org
END:VEVENT
BEGIN:VEVENT
DTSTART;TZID=America/New_York:20271026T130000
DTEND;TZID=America/New_York:20271026T140000
DTSTAMP:20260420T083928
CREATED:20250507T203634Z
LAST-MODIFIED:20250508T141900Z
UID:10004053-1824555600-1824559200@www.turnaroundinc.org
SUMMARY:Healing through Movement - (Clients Only)
DESCRIPTION:Healing through Movement – Reclaiming Hope\, Strength\, and Joy! (Clients Only) \nA live instructor will guide you through a stretching routine. \nThis is a Virtual event. \nRegistration
URL:https://www.turnaroundinc.org/event/healing-through-movement-clients-only-2/2027-10-26/
CATEGORIES:Virtual
ORGANIZER;CN="TurnAround with Cathy Waugh":MAILTO:intake@turnaroundinc.org
END:VEVENT
BEGIN:VEVENT
DTSTART;TZID=America/New_York:20271027T120000
DTEND;TZID=America/New_York:20271027T130000
DTSTAMP:20260420T083928
CREATED:20260417T190617Z
LAST-MODIFIED:20260417T190639Z
UID:10005732-1824638400-1824642000@www.turnaroundinc.org
SUMMARY:The Luna Collective: The Healing Thread
DESCRIPTION:
URL:https://www.turnaroundinc.org/event/the-luna-collective-the-healing-thread/2027-10-27/
CATEGORIES:Virtual
ORGANIZER;CN="Liz Kimbel":MAILTO:lkimbel@turnaroundinc.org
END:VEVENT
BEGIN:VEVENT
DTSTART;TZID=America/New_York:20271028T160000
DTEND;TZID=America/New_York:20271028T170000
DTSTAMP:20260420T083928
CREATED:20260417T185850Z
LAST-MODIFIED:20260417T190808Z
UID:10005210-1824739200-1824742800@www.turnaroundinc.org
SUMMARY:The Luna Collective: Restoring Ivy Collective
DESCRIPTION:
URL:https://www.turnaroundinc.org/event/the-luna-collective-restoring-ivy-collective/2027-10-28/
CATEGORIES:Virtual
ORGANIZER;CN="Liz Kimbel":MAILTO:lkimbel@turnaroundinc.org
END:VEVENT
END:VCALENDAR