BEGIN:VCALENDAR
VERSION:2.0
PRODID:-//Turn Around, Inc. - ECPv6.15.20//NONSGML v1.0//EN
CALSCALE:GREGORIAN
METHOD:PUBLISH
X-ORIGINAL-URL:https://www.turnaroundinc.org
X-WR-CALDESC:Events for Turn Around, Inc.
REFRESH-INTERVAL;VALUE=DURATION:PT1H
X-Robots-Tag:noindex
X-PUBLISHED-TTL:PT1H
BEGIN:VTIMEZONE
TZID:America/New_York
BEGIN:DAYLIGHT
TZOFFSETFROM:-0500
TZOFFSETTO:-0400
TZNAME:EDT
DTSTART:20270314T070000
END:DAYLIGHT
BEGIN:STANDARD
TZOFFSETFROM:-0400
TZOFFSETTO:-0500
TZNAME:EST
DTSTART:20271107T060000
END:STANDARD
BEGIN:DAYLIGHT
TZOFFSETFROM:-0500
TZOFFSETTO:-0400
TZNAME:EDT
DTSTART:20280312T070000
END:DAYLIGHT
BEGIN:STANDARD
TZOFFSETFROM:-0400
TZOFFSETTO:-0500
TZNAME:EST
DTSTART:20281105T060000
END:STANDARD
BEGIN:DAYLIGHT
TZOFFSETFROM:-0500
TZOFFSETTO:-0400
TZNAME:EDT
DTSTART:20290311T070000
END:DAYLIGHT
BEGIN:STANDARD
TZOFFSETFROM:-0400
TZOFFSETTO:-0500
TZNAME:EST
DTSTART:20291104T060000
END:STANDARD
END:VTIMEZONE
BEGIN:VEVENT
DTSTART;TZID=America/New_York:20281124T100000
DTEND;TZID=America/New_York:20281124T110000
DTSTAMP:20260422T231247
CREATED:20260417T184947Z
LAST-MODIFIED:20260417T193649Z
UID:10005064-1858672800-1858676400@www.turnaroundinc.org
SUMMARY:The Luna Collective: Healthy Relationships
DESCRIPTION:
URL:https://www.turnaroundinc.org/event/the-luna-collective-healthy-relationships/2028-11-24/
CATEGORIES:Virtual
ORGANIZER;CN="Liz Kimbel":MAILTO:lkimbel@turnaroundinc.org
END:VEVENT
BEGIN:VEVENT
DTSTART;TZID=America/New_York:20281124T120000
DTEND;TZID=America/New_York:20281124T130000
DTSTAMP:20260422T231247
CREATED:20250507T203857Z
LAST-MODIFIED:20250508T142001Z
UID:10004632-1858680000-1858683600@www.turnaroundinc.org
SUMMARY:Healing through Movement - (Clients Only)
DESCRIPTION:Healing through Movement – Reclaiming Hope\, Strength\, and Joy! (Clients Only) \nA live instructor will guide you through a stretching routine. \nThis is a Virtual event. \nRegistration
URL:https://www.turnaroundinc.org/event/healing-through-movement-clients-only-3/2028-11-24/
CATEGORIES:Virtual
ORGANIZER;CN="TurnAround with Cathy Waugh":MAILTO:intake@turnaroundinc.org
END:VEVENT
BEGIN:VEVENT
DTSTART;TZID=America/New_York:20281124T130000
DTEND;TZID=America/New_York:20281124T140000
DTSTAMP:20260422T231247
CREATED:20260417T190129Z
LAST-MODIFIED:20260417T190731Z
UID:10005528-1858683600-1858687200@www.turnaroundinc.org
SUMMARY:The Luna Collective
DESCRIPTION:
URL:https://www.turnaroundinc.org/event/the-luna-collective/2028-11-24/
CATEGORIES:Virtual
ORGANIZER;CN="Liz Kimbel":MAILTO:lkimbel@turnaroundinc.org
END:VEVENT
BEGIN:VEVENT
DTSTART;TZID=America/New_York:20281124T170000
DTEND;TZID=America/New_York:20281124T180000
DTSTAMP:20260422T231247
CREATED:20250507T195314Z
LAST-MODIFIED:20250507T210836Z
UID:10003586-1858698000-1858701600@www.turnaroundinc.org
SUMMARY:The Luna Project: SMART Recovery
DESCRIPTION:All survivors welcome! If interested\, contact your advocate or therapist for an interal referral\, or if not an existing TurnAround client\, call our main line at 410-377-8111 to be enrolled in The Luna Project today! This is a virtual event.
URL:https://www.turnaroundinc.org/event/the-luna-project-smart-recovery-2/2028-11-24/
CATEGORIES:Virtual
ORGANIZER;CN="Liz Kimbel":MAILTO:lkimbel@turnaroundinc.org
END:VEVENT
BEGIN:VEVENT
DTSTART;TZID=America/New_York:20281128T110000
DTEND;TZID=America/New_York:20281128T120000
DTSTAMP:20260422T231247
CREATED:20250507T185035Z
LAST-MODIFIED:20250508T133047Z
UID:10000713-1859022000-1859025600@www.turnaroundinc.org
SUMMARY:Healing through Movement - (Clients Only)
DESCRIPTION:Healing through Movement – Reclaiming Hope\, Strength\, and Joy! (Clients Only) \nA live instructor will guide you through a stretching routine. \nThis is a Virtual event. \nRegistration
URL:https://www.turnaroundinc.org/event/healing-through-movement/2028-11-28/
CATEGORIES:Virtual
ORGANIZER;CN="TurnAround with Cathy Waugh":MAILTO:intake@turnaroundinc.org
END:VEVENT
BEGIN:VEVENT
DTSTART;TZID=America/New_York:20281128T130000
DTEND;TZID=America/New_York:20281128T140000
DTSTAMP:20260422T231247
CREATED:20250507T203634Z
LAST-MODIFIED:20250508T141900Z
UID:10004110-1859029200-1859032800@www.turnaroundinc.org
SUMMARY:Healing through Movement - (Clients Only)
DESCRIPTION:Healing through Movement – Reclaiming Hope\, Strength\, and Joy! (Clients Only) \nA live instructor will guide you through a stretching routine. \nThis is a Virtual event. \nRegistration
URL:https://www.turnaroundinc.org/event/healing-through-movement-clients-only-2/2028-11-28/
CATEGORIES:Virtual
ORGANIZER;CN="TurnAround with Cathy Waugh":MAILTO:intake@turnaroundinc.org
END:VEVENT
BEGIN:VEVENT
DTSTART;TZID=America/New_York:20281129T120000
DTEND;TZID=America/New_York:20281129T130000
DTSTAMP:20260422T231247
CREATED:20260417T190617Z
LAST-MODIFIED:20260417T190639Z
UID:10005789-1859112000-1859115600@www.turnaroundinc.org
SUMMARY:The Luna Collective: The Healing Thread
DESCRIPTION:
URL:https://www.turnaroundinc.org/event/the-luna-collective-the-healing-thread/2028-11-29/
CATEGORIES:Virtual
ORGANIZER;CN="Liz Kimbel":MAILTO:lkimbel@turnaroundinc.org
END:VEVENT
BEGIN:VEVENT
DTSTART;TZID=America/New_York:20281130T160000
DTEND;TZID=America/New_York:20281130T170000
DTSTAMP:20260422T231247
CREATED:20260417T185850Z
LAST-MODIFIED:20260417T190808Z
UID:10005267-1859212800-1859216400@www.turnaroundinc.org
SUMMARY:The Luna Collective: Restoring Ivy Collective
DESCRIPTION:
URL:https://www.turnaroundinc.org/event/the-luna-collective-restoring-ivy-collective/2028-11-30/
CATEGORIES:Virtual
ORGANIZER;CN="Liz Kimbel":MAILTO:lkimbel@turnaroundinc.org
END:VEVENT
BEGIN:VEVENT
DTSTART;TZID=America/New_York:20281201T100000
DTEND;TZID=America/New_York:20281201T110000
DTSTAMP:20260422T231247
CREATED:20250507T185905Z
LAST-MODIFIED:20250508T133233Z
UID:10001237-1859277600-1859281200@www.turnaroundinc.org
SUMMARY:Healing through Movement - (Clients Only)
DESCRIPTION:Healing through Movement – Reclaiming Hope\, Strength\, and Joy! (Clients Only) \nA live instructor will guide you through a stretching routine. \nThis is a Virtual event. \nRegistration
URL:https://www.turnaroundinc.org/event/healing-through-movement-clients-only/2028-12-01/
CATEGORIES:Virtual
ORGANIZER;CN="TurnAround with Cathy Waugh":MAILTO:intake@turnaroundinc.org
END:VEVENT
BEGIN:VEVENT
DTSTART;TZID=America/New_York:20281201T120000
DTEND;TZID=America/New_York:20281201T130000
DTSTAMP:20260422T231247
CREATED:20250507T203857Z
LAST-MODIFIED:20250508T142001Z
UID:10004633-1859284800-1859288400@www.turnaroundinc.org
SUMMARY:Healing through Movement - (Clients Only)
DESCRIPTION:Healing through Movement – Reclaiming Hope\, Strength\, and Joy! (Clients Only) \nA live instructor will guide you through a stretching routine. \nThis is a Virtual event. \nRegistration
URL:https://www.turnaroundinc.org/event/healing-through-movement-clients-only-3/2028-12-01/
CATEGORIES:Virtual
ORGANIZER;CN="TurnAround with Cathy Waugh":MAILTO:intake@turnaroundinc.org
END:VEVENT
BEGIN:VEVENT
DTSTART;TZID=America/New_York:20281201T130000
DTEND;TZID=America/New_York:20281201T140000
DTSTAMP:20260422T231247
CREATED:20260417T190129Z
LAST-MODIFIED:20260417T190731Z
UID:10005529-1859288400-1859292000@www.turnaroundinc.org
SUMMARY:The Luna Collective
DESCRIPTION:
URL:https://www.turnaroundinc.org/event/the-luna-collective/2028-12-01/
CATEGORIES:Virtual
ORGANIZER;CN="Liz Kimbel":MAILTO:lkimbel@turnaroundinc.org
END:VEVENT
BEGIN:VEVENT
DTSTART;TZID=America/New_York:20281201T170000
DTEND;TZID=America/New_York:20281201T180000
DTSTAMP:20260422T231247
CREATED:20250507T195314Z
LAST-MODIFIED:20250507T210836Z
UID:10003587-1859302800-1859306400@www.turnaroundinc.org
SUMMARY:The Luna Project: SMART Recovery
DESCRIPTION:All survivors welcome! If interested\, contact your advocate or therapist for an interal referral\, or if not an existing TurnAround client\, call our main line at 410-377-8111 to be enrolled in The Luna Project today! This is a virtual event.
URL:https://www.turnaroundinc.org/event/the-luna-project-smart-recovery-2/2028-12-01/
CATEGORIES:Virtual
ORGANIZER;CN="Liz Kimbel":MAILTO:lkimbel@turnaroundinc.org
END:VEVENT
BEGIN:VEVENT
DTSTART;TZID=America/New_York:20281205T110000
DTEND;TZID=America/New_York:20281205T120000
DTSTAMP:20260422T231247
CREATED:20250507T185035Z
LAST-MODIFIED:20250508T133047Z
UID:10000714-1859626800-1859630400@www.turnaroundinc.org
SUMMARY:Healing through Movement - (Clients Only)
DESCRIPTION:Healing through Movement – Reclaiming Hope\, Strength\, and Joy! (Clients Only) \nA live instructor will guide you through a stretching routine. \nThis is a Virtual event. \nRegistration
URL:https://www.turnaroundinc.org/event/healing-through-movement/2028-12-05/
CATEGORIES:Virtual
ORGANIZER;CN="TurnAround with Cathy Waugh":MAILTO:intake@turnaroundinc.org
END:VEVENT
BEGIN:VEVENT
DTSTART;TZID=America/New_York:20281205T130000
DTEND;TZID=America/New_York:20281205T140000
DTSTAMP:20260422T231247
CREATED:20250507T203634Z
LAST-MODIFIED:20250508T141900Z
UID:10004111-1859634000-1859637600@www.turnaroundinc.org
SUMMARY:Healing through Movement - (Clients Only)
DESCRIPTION:Healing through Movement – Reclaiming Hope\, Strength\, and Joy! (Clients Only) \nA live instructor will guide you through a stretching routine. \nThis is a Virtual event. \nRegistration
URL:https://www.turnaroundinc.org/event/healing-through-movement-clients-only-2/2028-12-05/
CATEGORIES:Virtual
ORGANIZER;CN="TurnAround with Cathy Waugh":MAILTO:intake@turnaroundinc.org
END:VEVENT
BEGIN:VEVENT
DTSTART;TZID=America/New_York:20281206T120000
DTEND;TZID=America/New_York:20281206T130000
DTSTAMP:20260422T231247
CREATED:20260417T190617Z
LAST-MODIFIED:20260417T190639Z
UID:10005790-1859716800-1859720400@www.turnaroundinc.org
SUMMARY:The Luna Collective: The Healing Thread
DESCRIPTION:
URL:https://www.turnaroundinc.org/event/the-luna-collective-the-healing-thread/2028-12-06/
CATEGORIES:Virtual
ORGANIZER;CN="Liz Kimbel":MAILTO:lkimbel@turnaroundinc.org
END:VEVENT
BEGIN:VEVENT
DTSTART;TZID=America/New_York:20281207T160000
DTEND;TZID=America/New_York:20281207T170000
DTSTAMP:20260422T231247
CREATED:20260417T185850Z
LAST-MODIFIED:20260417T190808Z
UID:10005268-1859817600-1859821200@www.turnaroundinc.org
SUMMARY:The Luna Collective: Restoring Ivy Collective
DESCRIPTION:
URL:https://www.turnaroundinc.org/event/the-luna-collective-restoring-ivy-collective/2028-12-07/
CATEGORIES:Virtual
ORGANIZER;CN="Liz Kimbel":MAILTO:lkimbel@turnaroundinc.org
END:VEVENT
BEGIN:VEVENT
DTSTART;TZID=America/New_York:20281208T100000
DTEND;TZID=America/New_York:20281208T110000
DTSTAMP:20260422T231247
CREATED:20250507T185905Z
LAST-MODIFIED:20250508T133233Z
UID:10001238-1859882400-1859886000@www.turnaroundinc.org
SUMMARY:Healing through Movement - (Clients Only)
DESCRIPTION:Healing through Movement – Reclaiming Hope\, Strength\, and Joy! (Clients Only) \nA live instructor will guide you through a stretching routine. \nThis is a Virtual event. \nRegistration
URL:https://www.turnaroundinc.org/event/healing-through-movement-clients-only/2028-12-08/
CATEGORIES:Virtual
ORGANIZER;CN="TurnAround with Cathy Waugh":MAILTO:intake@turnaroundinc.org
END:VEVENT
BEGIN:VEVENT
DTSTART;TZID=America/New_York:20281208T100000
DTEND;TZID=America/New_York:20281208T110000
DTSTAMP:20260422T231247
CREATED:20260417T184947Z
LAST-MODIFIED:20260417T193649Z
UID:10005065-1859882400-1859886000@www.turnaroundinc.org
SUMMARY:The Luna Collective: Healthy Relationships
DESCRIPTION:
URL:https://www.turnaroundinc.org/event/the-luna-collective-healthy-relationships/2028-12-08/
CATEGORIES:Virtual
ORGANIZER;CN="Liz Kimbel":MAILTO:lkimbel@turnaroundinc.org
END:VEVENT
BEGIN:VEVENT
DTSTART;TZID=America/New_York:20281208T120000
DTEND;TZID=America/New_York:20281208T130000
DTSTAMP:20260422T231247
CREATED:20250507T203857Z
LAST-MODIFIED:20250508T142001Z
UID:10004634-1859889600-1859893200@www.turnaroundinc.org
SUMMARY:Healing through Movement - (Clients Only)
DESCRIPTION:Healing through Movement – Reclaiming Hope\, Strength\, and Joy! (Clients Only) \nA live instructor will guide you through a stretching routine. \nThis is a Virtual event. \nRegistration
URL:https://www.turnaroundinc.org/event/healing-through-movement-clients-only-3/2028-12-08/
CATEGORIES:Virtual
ORGANIZER;CN="TurnAround with Cathy Waugh":MAILTO:intake@turnaroundinc.org
END:VEVENT
BEGIN:VEVENT
DTSTART;TZID=America/New_York:20281208T130000
DTEND;TZID=America/New_York:20281208T140000
DTSTAMP:20260422T231247
CREATED:20260417T190129Z
LAST-MODIFIED:20260417T190731Z
UID:10005530-1859893200-1859896800@www.turnaroundinc.org
SUMMARY:The Luna Collective
DESCRIPTION:
URL:https://www.turnaroundinc.org/event/the-luna-collective/2028-12-08/
CATEGORIES:Virtual
ORGANIZER;CN="Liz Kimbel":MAILTO:lkimbel@turnaroundinc.org
END:VEVENT
BEGIN:VEVENT
DTSTART;TZID=America/New_York:20281208T170000
DTEND;TZID=America/New_York:20281208T180000
DTSTAMP:20260422T231247
CREATED:20250507T195314Z
LAST-MODIFIED:20250507T210836Z
UID:10003588-1859907600-1859911200@www.turnaroundinc.org
SUMMARY:The Luna Project: SMART Recovery
DESCRIPTION:All survivors welcome! If interested\, contact your advocate or therapist for an interal referral\, or if not an existing TurnAround client\, call our main line at 410-377-8111 to be enrolled in The Luna Project today! This is a virtual event.
URL:https://www.turnaroundinc.org/event/the-luna-project-smart-recovery-2/2028-12-08/
CATEGORIES:Virtual
ORGANIZER;CN="Liz Kimbel":MAILTO:lkimbel@turnaroundinc.org
END:VEVENT
BEGIN:VEVENT
DTSTART;TZID=America/New_York:20281212T110000
DTEND;TZID=America/New_York:20281212T120000
DTSTAMP:20260422T231247
CREATED:20250507T185035Z
LAST-MODIFIED:20250508T133047Z
UID:10000715-1860231600-1860235200@www.turnaroundinc.org
SUMMARY:Healing through Movement - (Clients Only)
DESCRIPTION:Healing through Movement – Reclaiming Hope\, Strength\, and Joy! (Clients Only) \nA live instructor will guide you through a stretching routine. \nThis is a Virtual event. \nRegistration
URL:https://www.turnaroundinc.org/event/healing-through-movement/2028-12-12/
CATEGORIES:Virtual
ORGANIZER;CN="TurnAround with Cathy Waugh":MAILTO:intake@turnaroundinc.org
END:VEVENT
BEGIN:VEVENT
DTSTART;TZID=America/New_York:20281212T130000
DTEND;TZID=America/New_York:20281212T140000
DTSTAMP:20260422T231247
CREATED:20250507T203634Z
LAST-MODIFIED:20250508T141900Z
UID:10004112-1860238800-1860242400@www.turnaroundinc.org
SUMMARY:Healing through Movement - (Clients Only)
DESCRIPTION:Healing through Movement – Reclaiming Hope\, Strength\, and Joy! (Clients Only) \nA live instructor will guide you through a stretching routine. \nThis is a Virtual event. \nRegistration
URL:https://www.turnaroundinc.org/event/healing-through-movement-clients-only-2/2028-12-12/
CATEGORIES:Virtual
ORGANIZER;CN="TurnAround with Cathy Waugh":MAILTO:intake@turnaroundinc.org
END:VEVENT
BEGIN:VEVENT
DTSTART;TZID=America/New_York:20281213T120000
DTEND;TZID=America/New_York:20281213T130000
DTSTAMP:20260422T231247
CREATED:20260417T190617Z
LAST-MODIFIED:20260417T190639Z
UID:10005791-1860321600-1860325200@www.turnaroundinc.org
SUMMARY:The Luna Collective: The Healing Thread
DESCRIPTION:
URL:https://www.turnaroundinc.org/event/the-luna-collective-the-healing-thread/2028-12-13/
CATEGORIES:Virtual
ORGANIZER;CN="Liz Kimbel":MAILTO:lkimbel@turnaroundinc.org
END:VEVENT
BEGIN:VEVENT
DTSTART;TZID=America/New_York:20281214T160000
DTEND;TZID=America/New_York:20281214T170000
DTSTAMP:20260422T231247
CREATED:20260417T185850Z
LAST-MODIFIED:20260417T190808Z
UID:10005269-1860422400-1860426000@www.turnaroundinc.org
SUMMARY:The Luna Collective: Restoring Ivy Collective
DESCRIPTION:
URL:https://www.turnaroundinc.org/event/the-luna-collective-restoring-ivy-collective/2028-12-14/
CATEGORIES:Virtual
ORGANIZER;CN="Liz Kimbel":MAILTO:lkimbel@turnaroundinc.org
END:VEVENT
BEGIN:VEVENT
DTSTART;TZID=America/New_York:20281215T100000
DTEND;TZID=America/New_York:20281215T110000
DTSTAMP:20260422T231247
CREATED:20250507T185905Z
LAST-MODIFIED:20250508T133233Z
UID:10001239-1860487200-1860490800@www.turnaroundinc.org
SUMMARY:Healing through Movement - (Clients Only)
DESCRIPTION:Healing through Movement – Reclaiming Hope\, Strength\, and Joy! (Clients Only) \nA live instructor will guide you through a stretching routine. \nThis is a Virtual event. \nRegistration
URL:https://www.turnaroundinc.org/event/healing-through-movement-clients-only/2028-12-15/
CATEGORIES:Virtual
ORGANIZER;CN="TurnAround with Cathy Waugh":MAILTO:intake@turnaroundinc.org
END:VEVENT
BEGIN:VEVENT
DTSTART;TZID=America/New_York:20281215T120000
DTEND;TZID=America/New_York:20281215T130000
DTSTAMP:20260422T231247
CREATED:20250507T203857Z
LAST-MODIFIED:20250508T142001Z
UID:10004635-1860494400-1860498000@www.turnaroundinc.org
SUMMARY:Healing through Movement - (Clients Only)
DESCRIPTION:Healing through Movement – Reclaiming Hope\, Strength\, and Joy! (Clients Only) \nA live instructor will guide you through a stretching routine. \nThis is a Virtual event. \nRegistration
URL:https://www.turnaroundinc.org/event/healing-through-movement-clients-only-3/2028-12-15/
CATEGORIES:Virtual
ORGANIZER;CN="TurnAround with Cathy Waugh":MAILTO:intake@turnaroundinc.org
END:VEVENT
BEGIN:VEVENT
DTSTART;TZID=America/New_York:20281215T130000
DTEND;TZID=America/New_York:20281215T140000
DTSTAMP:20260422T231247
CREATED:20260417T190129Z
LAST-MODIFIED:20260417T190731Z
UID:10005531-1860498000-1860501600@www.turnaroundinc.org
SUMMARY:The Luna Collective
DESCRIPTION:
URL:https://www.turnaroundinc.org/event/the-luna-collective/2028-12-15/
CATEGORIES:Virtual
ORGANIZER;CN="Liz Kimbel":MAILTO:lkimbel@turnaroundinc.org
END:VEVENT
BEGIN:VEVENT
DTSTART;TZID=America/New_York:20281215T170000
DTEND;TZID=America/New_York:20281215T180000
DTSTAMP:20260422T231247
CREATED:20250507T195314Z
LAST-MODIFIED:20250507T210836Z
UID:10003589-1860512400-1860516000@www.turnaroundinc.org
SUMMARY:The Luna Project: SMART Recovery
DESCRIPTION:All survivors welcome! If interested\, contact your advocate or therapist for an interal referral\, or if not an existing TurnAround client\, call our main line at 410-377-8111 to be enrolled in The Luna Project today! This is a virtual event.
URL:https://www.turnaroundinc.org/event/the-luna-project-smart-recovery-2/2028-12-15/
CATEGORIES:Virtual
ORGANIZER;CN="Liz Kimbel":MAILTO:lkimbel@turnaroundinc.org
END:VEVENT
BEGIN:VEVENT
DTSTART;TZID=America/New_York:20281219T110000
DTEND;TZID=America/New_York:20281219T120000
DTSTAMP:20260422T231247
CREATED:20250507T185035Z
LAST-MODIFIED:20250508T133047Z
UID:10000716-1860836400-1860840000@www.turnaroundinc.org
SUMMARY:Healing through Movement - (Clients Only)
DESCRIPTION:Healing through Movement – Reclaiming Hope\, Strength\, and Joy! (Clients Only) \nA live instructor will guide you through a stretching routine. \nThis is a Virtual event. \nRegistration
URL:https://www.turnaroundinc.org/event/healing-through-movement/2028-12-19/
CATEGORIES:Virtual
ORGANIZER;CN="TurnAround with Cathy Waugh":MAILTO:intake@turnaroundinc.org
END:VEVENT
END:VCALENDAR